BEGIN:VCALENDAR
VERSION:2.0
PRODID:-//ChamberMaster//Event Calendar 2.0//EN
METHOD:PUBLISH
X-PUBLISHED-TTL:P3D
REFRESH-INTERVAL:P3D
CALSCALE:GREGORIAN
BEGIN:VEVENT
DTSTART:20210519T230000Z
DTEND:20210519T230000Z
X-MICROSOFT-CDO-ALLDAYEVENT:FALSE
SUMMARY:High Spirits in the Civil War\, Sherman Civil War Roundtable\, Fairfield Heritage Association
DESCRIPTION:The Sherman Civil War Roundtable is coming back! And in high spirits\, too!\n\n\nRoundtable President Bill Brubach presents "High Spirits in the Civil War" at 7pm Wednesday\, May 19\, in the Sherman House Museum. \n\nCost is $5. Tickets are extremely limited to allow safe spacing inside\, and masks will be required. Order your tickets now by calling 740-654-9923.
X-ALT-DESC;FMTTYPE=text/html:<div style="margin: 0px\; padding: 0px\; border: 0px\; font-variant-numeric: inherit\; font-variant-east-asian: inherit\; font-stretch: inherit\; font-size: 15px\; line-height: inherit\; font-family: &quot\;Segoe UI&quot\;\, &quot\;Segoe UI Web (West European)&quot\;\, &quot\;Segoe UI&quot\;\, -apple-system\, BlinkMacSystemFont\, Roboto\, &quot\;Helvetica Neue&quot\;\, sans-serif\; vertical-align: baseline\; color: rgb(32\, 31\, 30)\; background-color: rgb(255\, 255\, 255)\;"><span style="margin: 0px\; padding: 0px\; border: 0px\; font-style: inherit\; font-variant: inherit\; font-weight: inherit\; font-stretch: inherit\; line-height: inherit\; font-family: inherit\; vertical-align: baseline\; color: rgb(5\, 5\, 5)\; white-space: pre-wrap\;"><font face="garamond\,times new roman\,serif"><b>The Sherman Civil War Roundtable is coming back! </b>And in high spirits\, too!</font></span></div>\n\n<div style="margin: 0.5em 0px 0px\; padding: 0px\; border: 0px\; font-variant-numeric: inherit\; font-variant-east-asian: inherit\; font-stretch: inherit\; font-size: 15px\; line-height: inherit\; font-family: &quot\;Segoe UI&quot\;\, &quot\;Segoe UI Web (West European)&quot\;\, &quot\;Segoe UI&quot\;\, -apple-system\, BlinkMacSystemFont\, Roboto\, &quot\;Helvetica Neue&quot\;\, sans-serif\; vertical-align: baseline\; color: rgb(5\, 5\, 5)\; background-color: rgb(255\, 255\, 255)\; white-space: pre-wrap\;">\n<div dir="auto" style="margin: 0px\; padding: 0px\; border: 0px\; font: inherit\; vertical-align: baseline\; color: inherit\;"><font face="garamond\,times new roman\,serif">Roundtable President Bill Brubach presents &quot\;High Spirits in the Civil War&quot\; at 7pm Wednesday\, May 19\, in the Sherman House Museum. </font></div>\n\n<div dir="auto" style="margin: 0px\; padding: 0px\; border: 0px\; font: inherit\; vertical-align: baseline\; color: inherit\;"><font face="garamond\,times new roman\,serif">Cost is $5. Tickets are extremely limited to allow safe spacing inside\, and masks will be required. Order your tickets now by calling 740-654-9923.</font></div>\n</div>\n
LOCATION:Sherman House 137 E. Main St Lancaster\, OH 43130
UID:e.3121.577
SEQUENCE:3
DTSTAMP:20260422T145645Z
URL:https://business.lancoc.org/events/details/high-spirits-in-the-civil-war-sherman-civil-war-roundtable-fairfield-heritage-association-577
END:VEVENT

END:VCALENDAR
