BEGIN:VCALENDAR
VERSION:2.0
PRODID:-//ChamberMaster//Event Calendar 2.0//EN
METHOD:PUBLISH
X-PUBLISHED-TTL:P3D
REFRESH-INTERVAL:P3D
CALSCALE:GREGORIAN
BEGIN:VEVENT
DTSTART:20220517T140000Z
DTEND:20220517T160000Z
X-MICROSOFT-CDO-ALLDAYEVENT:FALSE
SUMMARY:Headshots for Professionals
DESCRIPTION:Primrose is excited to offer an opportunity for local professionals to update their headshot for professional use... compliments of Primrose!\n\nAlyssa Timmons\, a local photographer\, will be joining us to capture your new image.
X-ALT-DESC;FMTTYPE=text/html:<p><span style="font-size:20px\;">Primrose is excited to offer an opportunity for local professionals to update their headshot for professional use... compliments of Primrose!</span></p>\n\n<p><span style="font-size:20px\;">Alyssa Timmons\, a local photographer\, will be joining us to capture your new image.</span></p>\n
LOCATION:1481 Wesley Way Lancaster\, OH 43130
UID:e.3121.779
SEQUENCE:3
DTSTAMP:20260419T183033Z
URL:https://business.lancoc.org/events/details/headshots-for-professionals-779
END:VEVENT

END:VCALENDAR
