BEGIN:VCALENDAR
VERSION:2.0
PRODID:-//ChamberMaster//Event Calendar 2.0//EN
METHOD:PUBLISH
X-PUBLISHED-TTL:P3D
REFRESH-INTERVAL:P3D
CALSCALE:GREGORIAN
BEGIN:VEVENT
DTSTART:20220311T130000Z
DTEND:20220311T180000Z
X-MICROSOFT-CDO-ALLDAYEVENT:FALSE
SUMMARY:GrowthCLUB: Build Your 90-Day Plan for Q2
DESCRIPTION:Only 2% of business owners have a written plan. And we all know the saying   "failing to plan is planning to fail."\n\n \n\nJoin us for a day of preparation\, networking\, and growth at our GrowthCLUB business planning event on Friday\, March 11th from 8:00 a.m. to 1:00 p.m at The Tobin Center in Canal Winchester\, OH.\n\n \n\nMeet like-minded business owners and coaches\, expand your thinking\, and build your plan for Q2.\n\n \n\nWhy stick to annual planning? Your business has probably changed a lot since January. Assess Q1\, capitalize on wins\, make the right adjustments\, and set goals for your second quarter.\n\n \n\nOne laser-focused day of planning will launch you ahead of the competition.
X-ALT-DESC;FMTTYPE=text/html:Only 2% of business owners have a written plan. And we all know the saying &ndash\; &quot\;failing to plan is planning to fail.&quot\;<br />\n&nbsp\;<br />\nJoin us for a day of preparation\, networking\, and growth at our GrowthCLUB business planning event on Friday\, March 11th from 8:00 a.m. to 1:00 p.m at The Tobin Center in Canal Winchester\, OH.<br />\n&nbsp\;<br />\nMeet like-minded business owners and coaches\, expand your thinking\, and build your plan for Q2.<br />\n&nbsp\;<br />\nWhy stick to annual planning? Your business has probably changed a lot since January. Assess Q1\, capitalize on wins\, make the right adjustments\, and set goals for your second quarter.<br />\n&nbsp\;<br />\nOne laser-focused day of planning will launch you ahead of the competition.
LOCATION:The Tobin Center 8233 Howe Industrial Parkway Canal Winchester\, OH 43110
UID:e.3121.765
SEQUENCE:3
DTSTAMP:20260419T222227Z
URL:https://business.lancoc.org/events/details/growthclub-build-your-90-day-plan-for-q2-765
END:VEVENT

END:VCALENDAR
