BEGIN:VCALENDAR
VERSION:2.0
PRODID:-//ChamberMaster//Event Calendar 2.0//EN
METHOD:PUBLISH
X-PUBLISHED-TTL:P3D
REFRESH-INTERVAL:P3D
CALSCALE:GREGORIAN
BEGIN:VEVENT
DTSTART:20180620T200000Z
DTEND:20180620T201500Z
X-MICROSOFT-CDO-ALLDAYEVENT:FALSE
SUMMARY:GOBA-Mayor's Proclamation & ribbon cutting
DESCRIPTION:Mayor's Proclamation & Ribbon Cutting for GOBA (Greater Ohio Bicycle Adventure) Events
X-ALT-DESC;FMTTYPE=text/html:<span style="color: rgb(51\, 51\, 51)\; font-family: sans-serif\, Arial\, Verdana\, &quot\;Trebuchet MS&quot\;\; font-size: 13px\; background-color: rgb(255\, 255\, 255)\;">Mayor&#39\;s Proclamation &amp\; Ribbon Cutting for&nbsp\;</span>GOBA<span style="color: rgb(51\, 51\, 51)\; font-family: sans-serif\, Arial\, Verdana\, &quot\;Trebuchet MS&quot\;\; font-size: 13px\; background-color: rgb(255\, 255\, 255)\;">&nbsp\;(Greater Ohio Bicycle Adventure) Events</span>
LOCATION:Zane Square Broad and Main Street Downtown Lancaster
UID:e.3121.17
SEQUENCE:3
DTSTAMP:20260425T102334Z
URL:https://business.lancoc.org/events/details/goba-mayor-s-proclamation-ribbon-cutting-17
END:VEVENT

END:VCALENDAR
