BEGIN:VCALENDAR
VERSION:2.0
PRODID:-//ChamberMaster//Event Calendar 2.0//EN
METHOD:PUBLISH
X-PUBLISHED-TTL:P3D
REFRESH-INTERVAL:P3D
CALSCALE:GREGORIAN
BEGIN:VEVENT
DTSTART:20180620T210000Z
DTEND:20180621T010000Z
X-MICROSOFT-CDO-ALLDAYEVENT:FALSE
SUMMARY:GOBA Events
DESCRIPTION:GOBA Events\n\nLive music\, food vendors\,
X-ALT-DESC;FMTTYPE=text/html:GOBA Events<br />\nLive music\, food vendors\,&nbsp\;
LOCATION:Zane Square Broad and Main Street Downtown Lancaster
UID:e.3121.18
SEQUENCE:3
DTSTAMP:20260425T102043Z
URL:https://business.lancoc.org/events/details/goba-events-18
END:VEVENT

END:VCALENDAR
