BEGIN:VCALENDAR
VERSION:2.0
PRODID:-//ChamberMaster//Event Calendar 2.0//EN
METHOD:PUBLISH
X-PUBLISHED-TTL:P3D
REFRESH-INTERVAL:P3D
CALSCALE:GREGORIAN
BEGIN:VEVENT
DTSTART:20191116T000000Z
DTEND:20191116T030000Z
X-MICROSOFT-CDO-ALLDAYEVENT:FALSE
SUMMARY:Geneva Hills Bingo
DESCRIPTION:Geneva Hills Bingo helps support Geneva Hills which is a non profit Christian organization that operates an All Abilities K-8 childrens camp. Many families need help financially to make it possible for their child to attend a daily or weekly camping event. Please help support this rewarding cause for our children. Bingo is held every Monday-Wednesday-Friday. Doors open at 3pm. Bingo starts at 7pm. Thank You
X-ALT-DESC;FMTTYPE=text/html:Geneva Hills Bingo helps support Geneva Hills which is a non profit Christian organization that operates an All Abilities K-8 childrens camp. Many families need help financially to make it possible for their child to attend a daily or weekly camping event. Please help support this rewarding cause for our children. Bingo is held every Monday-Wednesday-Friday. Doors open at 3pm. Bingo starts at 7pm. Thank You
LOCATION:1540 E Main St Lancaster Oh
UID:e.3121.381
SEQUENCE:3
DTSTAMP:20260424T024210Z
URL:https://business.lancoc.org/events/details/geneva-hills-bingo-381
END:VEVENT

END:VCALENDAR
