BEGIN:VCALENDAR
VERSION:2.0
PRODID:-//ChamberMaster//Event Calendar 2.0//EN
METHOD:PUBLISH
X-PUBLISHED-TTL:P3D
REFRESH-INTERVAL:P3D
CALSCALE:GREGORIAN
BEGIN:VEVENT
DTSTART:20191214T180000Z
DTEND:20191214T203000Z
X-MICROSOFT-CDO-ALLDAYEVENT:FALSE
SUMMARY:Gelatin Plate Printing
DESCRIPTION:Students will print using a gelatin plate and natural elements to create cards and decorations celebrating winter.\n\nAges 15+ \n\nLisa Schorr and Dallas Rienschield\, Instructors
X-ALT-DESC;FMTTYPE=text/html:Students will print using a gelatin plate and natural elements to create cards and decorations celebrating winter.<br />\n<span style="color: rgb(51\, 51\, 51)\; font-family: sans-serif\, Arial\, Verdana\, &quot\;Trebuchet MS&quot\;\; font-size: 13px\; background-color: rgb(255\, 255\, 255)\;">Ages 15+&nbsp\;<br />\nLisa Schorr and Dallas Rienschield\, Instructors</span>
LOCATION:Wendel Center for Art Education 145 E Main St Lancaster\, Ohio 43130
UID:e.3121.342
SEQUENCE:3
DTSTAMP:20260424T004117Z
URL:https://business.lancoc.org/events/details/gelatin-plate-printing-342
END:VEVENT

END:VCALENDAR
