BEGIN:VCALENDAR
VERSION:2.0
PRODID:-//ChamberMaster//Event Calendar 2.0//EN
METHOD:PUBLISH
X-PUBLISHED-TTL:P3D
REFRESH-INTERVAL:P3D
CALSCALE:GREGORIAN
BEGIN:VEVENT
DTSTART:20210607T130000Z
DTEND:20210608T210000Z
X-MICROSOFT-CDO-ALLDAYEVENT:FALSE
SUMMARY:Geenex Solar's Renewable Energy Education Workshop\, Curriculum & Training for Teachers
DESCRIPTION:Geenex Solar's Center for Energy Education presents a Free 2-Day STEM-based Workshop for Middle & High School Teachers\n\n\n\nSTEM-based Energy Curriculum lessons\n\nInteractive & Hands-on activities\n\n$200 Stipend\n\nVirtual Active Solar Farm Tour\n\nSolar Company Representatives\n\nTechnology Integration\n\nCertification of Completion\n\nResource Kits Provided\n\n\n\nRegistration info can be found online at center4ee.org
X-ALT-DESC;FMTTYPE=text/html:Geenex Solar&#39\;s Center for Energy Education presents a Free 2-Day STEM-based Workshop for Middle &amp\; High School Teachers<br />\n<br />\nSTEM-based Energy Curriculum lessons<br />\nInteractive &amp\; Hands-on activities<br />\n$200 Stipend<br />\nVirtual Active Solar Farm Tour<br />\nSolar Company Representatives<br />\nTechnology Integration<br />\nCertification of Completion<br />\nResource Kits Provided<br />\n<br />\nRegistration info can be found online at <a href="https://center4ee.org/">center4ee.org</a>
LOCATION:Brick House Blue 6605 Longshore Street\, Suite 240 Dublin\, OH
UID:e.3121.584
SEQUENCE:3
DTSTAMP:20260422T125356Z
URL:https://business.lancoc.org/events/details/geenex-solar-s-renewable-energy-education-workshop-curriculum-training-for-teachers-584
END:VEVENT

END:VCALENDAR
