BEGIN:VCALENDAR
VERSION:2.0
PRODID:-//ChamberMaster//Event Calendar 2.0//EN
METHOD:PUBLISH
X-PUBLISHED-TTL:P3D
REFRESH-INTERVAL:P3D
CALSCALE:GREGORIAN
BEGIN:VEVENT
DTSTART:20210614T130000Z
DTEND:20210617T200000Z
X-MICROSOFT-CDO-ALLDAYEVENT:FALSE
SUMMARY:Geenex Solar's Middle School Virtual Renewable Energy Summer Camp
DESCRIPTION:Geenex Solar's Center for Energy Education Middle School Virtual Renewable Energy Summer Camp\n\n\n\nAvailable for Ohio Counties: Fairfield\, Defiance\, Madison and Pickaway\n\n\n\nAll materials provided for a fun and hands-on learning experience!\n\n\n\nRegister online at www.center4ee.org
X-ALT-DESC;FMTTYPE=text/html:Geenex Solar&#39\;s Center for Energy Education Middle School Virtual Renewable Energy Summer Camp<br />\n<br />\nAvailable for Ohio Counties: Fairfield\, Defiance\, Madison and Pickaway<br />\n<br />\nAll materials provided for a fun and hands-on learning experience!<br />\n<br />\n<a href="https://center4ee.org/">Register online at www.center4ee.org&nbsp\;</a>
LOCATION:Online
UID:e.3121.583
SEQUENCE:3
DTSTAMP:20260422T125242Z
URL:https://business.lancoc.org/events/details/geenex-solar-s-middle-school-virtual-renewable-energy-summer-camp-583
END:VEVENT

END:VCALENDAR
