BEGIN:VCALENDAR
VERSION:2.0
PRODID:-//ChamberMaster//Event Calendar 2.0//EN
METHOD:PUBLISH
X-PUBLISHED-TTL:P3D
REFRESH-INTERVAL:P3D
CALSCALE:GREGORIAN
BEGIN:VEVENT
DTSTART;VALUE=DATE:20210903
DTEND;VALUE=DATE:20210906
TRANSP:TRANSPARENT
X-MICROSOFT-CDO-ALLDAYEVENT:TRUE
SUMMARY:Fun Bus Trip\, NYC Red Eye
DESCRIPTION:NYC RED EYE Fun Bus Adventures \n \n\n 740.653.4600 funbus@funbus.com\n\n \n\n\nFriday September 3\, 2021\n\n6:15 pm Depart Lancaster... Fun Bus Terminal @ 2188 E Main\n\n7:00 pm Depart Reynoldsburg...Walmart*\n\n7:30 pm Depart Jacksontown Park & Ride\n\n8:00 pm Depart Zanesville...Visitor's Center @ 5th & Shinnick\n\n8:30 pm Depart Cambridge .Walmart *\n\n9:30 pm Depart Wheeling\, WV...Kroger* @ Exit #2\n\nSaturday September 4\, 2021\n\n7:00 am Arrive New York City...Rockefeller Center\n\n(near NBC Studio and St. Patrick's Cathedral)\n\n8:00 pm Depart New York City ..Rockefeller Center\n\nSunday September 5\, 2021\n\n4:30 am Arrive Wheeling\n\n5:30 am Arrive Cambridge\n\n6:00 am Arrive Zanesville\n\n6:30 am Arrive Jacksontown\n\n7:00 am Arrive Reynoldsburg\n\n7:30 am Arrive Lancaster Main Terminal 2188 E Main\n\nHERE'S THE FINE PRINT...\n\nItinerary and inclusions are\n\napproximate and may change due to\n\nunforeseen circumstances.\n\n \n\nPrice includes roundtrip motor coach transportation to New York City and tour information enroute.\n\nDRIVER GRATUITY IS NOT INCLUDED
X-ALT-DESC;FMTTYPE=text/html:NYC RED EYE Fun Bus Adventures&nbsp\;\n<div>&nbsp\;</div>\n\n<div>&nbsp\;740.653.4600 funbus@funbus.com</div>\n\n<div>&nbsp\;</div>\n\n<div>\n<div>Friday September 3\, 2021</div>\n\n<div>6:15 pm Depart Lancaster... Fun Bus Terminal @ 2188 E Main</div>\n\n<div>7:00 pm Depart Reynoldsburg...Walmart*</div>\n\n<div>7:30 pm Depart Jacksontown Park &amp\; Ride</div>\n\n<div>8:00 pm Depart Zanesville...Visitor&rsquo\;s Center @ 5th &amp\; Shinnick</div>\n\n<div>8:30 pm Depart Cambridge&hellip\;.Walmart *</div>\n\n<div>9:30 pm Depart Wheeling\, WV...Kroger* @ Exit #2</div>\n\n<div>Saturday September 4\, 2021</div>\n\n<div>7:00 am Arrive New York City...Rockefeller Center</div>\n\n<div>(near NBC Studio and St. Patrick&rsquo\;s Cathedral)</div>\n\n<div>8:00 pm Depart New York City&hellip\;..Rockefeller Center</div>\n\n<div>Sunday September 5\, 2021</div>\n\n<div>4:30 am Arrive Wheeling</div>\n\n<div>5:30 am Arrive Cambridge</div>\n\n<div>6:00 am Arrive Zanesville</div>\n\n<div>6:30 am Arrive Jacksontown</div>\n\n<div>7:00 am Arrive Reynoldsburg</div>\n\n<div>7:30 am Arrive Lancaster Main Terminal 2188 E Main</div>\n\n<div>HERE&#39\;S THE FINE PRINT...</div>\n\n<div>Itinerary and inclusions are</div>\n\n<div>approximate and may change due to</div>\n\n<div>unforeseen circumstances.</div>\n\n<div>&nbsp\;</div>\n\n<div>Price includes roundtrip motor coach transportation to New York City and tour information enroute.</div>\n\n<div>DRIVER GRATUITY IS NOT INCLUDED</div>\n</div>\n
LOCATION:
UID:e.3121.668
SEQUENCE:3
DTSTAMP:20260420T072445Z
URL:https://business.lancoc.org/events/details/fun-bus-trip-nyc-red-eye-668
END:VEVENT

END:VCALENDAR
