BEGIN:VCALENDAR
VERSION:2.0
PRODID:-//ChamberMaster//Event Calendar 2.0//EN
METHOD:PUBLISH
X-PUBLISHED-TTL:P3D
REFRESH-INTERVAL:P3D
CALSCALE:GREGORIAN
BEGIN:VEVENT
DTSTART;VALUE=DATE:20210912
DTEND;VALUE=DATE:20210914
TRANSP:TRANSPARENT
X-MICROSOFT-CDO-ALLDAYEVENT:TRUE
SUMMARY:Fun Bus Trip\, Fleas & Slots
DESCRIPTION:Belterra Casino and Friendship Flea Market September 12 -13
X-ALT-DESC;FMTTYPE=text/html:Belterra Casino and Friendship Flea Market September 12 -13
LOCATION:
UID:e.3121.669
SEQUENCE:3
DTSTAMP:20260420T072255Z
URL:https://business.lancoc.org/events/details/fun-bus-trip-fleas-slots-669
END:VEVENT

END:VCALENDAR
