BEGIN:VCALENDAR
VERSION:2.0
PRODID:-//ChamberMaster//Event Calendar 2.0//EN
METHOD:PUBLISH
X-PUBLISHED-TTL:P3D
REFRESH-INTERVAL:P3D
CALSCALE:GREGORIAN
BEGIN:VEVENT
DTSTART;VALUE=DATE:20210930
DTEND;VALUE=DATE:20211001
TRANSP:TRANSPARENT
X-MICROSOFT-CDO-ALLDAYEVENT:TRUE
SUMMARY:Fun Bus Trip\, Amish Country
DESCRIPTION:Fun Bus\, Ohio Amish Country Backroad Tour\n\nFollow this link for more information: https://www.funbus.com/wp-content/uploads/2021/07/09302021AmishBackroad.pdf
X-ALT-DESC;FMTTYPE=text/html:<div style="text-align: center\;"><span style="font-size:16px\;"><strong>Fun Bus\, Ohio Amish Country Backroad Tour</strong></span></div>\n\n<div><span style="font-size:14px\;">Follow this link for more information:&nbsp\;<a href="https://www.funbus.com/wp-content/uploads/2021/07/09302021AmishBackroad.pdf">https://www.funbus.com/wp-content/uploads/2021/07/09302021AmishBackroad.pdf</a></span></div>\n
LOCATION:Pick Up Times & Locations 7:45am Depart Fun Bus Terminal at 2188 E Main St 8:15am Depart Canal Winchester\, Meijer* 8:30am Depart Reynoldsburg\, Wal-mart* 9:00am Depart Easton\, Wal-mart* 9:30am Depart Grove City\, Wal-mart*
UID:e.3121.685
SEQUENCE:3
DTSTAMP:20260420T073158Z
URL:https://business.lancoc.org/events/details/fun-bus-trip-amish-country-685
END:VEVENT

END:VCALENDAR
