BEGIN:VCALENDAR
VERSION:2.0
PRODID:-//ChamberMaster//Event Calendar 2.0//EN
METHOD:PUBLISH
X-PUBLISHED-TTL:P3D
REFRESH-INTERVAL:P3D
CALSCALE:GREGORIAN
BEGIN:VEVENT
DTSTART;VALUE=DATE:20211114
DTEND;VALUE=DATE:20211115
TRANSP:TRANSPARENT
X-MICROSOFT-CDO-ALLDAYEVENT:TRUE
SUMMARY:Fun Bus\, SW Ohio Thrift Marathon
DESCRIPTION:Join Fun Bus for a SW Ohio Thrift Marathon Trip!\n\n\nItinerary:\n\n8:15am Depart Athens..Wal-mart*\n\n8:45am Depart Logan..Wal-mart*\n\n9:15am Depart Lancaster.... Wal-mart* \n\n10:00 am Arrive Ohio Thrift... South High Street\n\n11:00 am Depart\n\n11:15 am Arrive Volunteers of America... Grove City\n\n12:15 pm Depart\n\n12:45 pm Arrive Ohio Thrift... Grove City\n\n2:15 pm Depart\n\n2:45 pm Arrive Ohio Thrift ... Refugee Rd.\n\n3:45 pm Depart\n\n4:15 pm Arrive Goodwill.... Canal Winchester\n\n5:15 pm Depart\n\n5:45 pm Arrive Lancaster... Wal-mart\n\n6:15 pm Arrive Logan... Wal-mart\n\n6:45 pm Arrive Athens... Wal-mart
X-ALT-DESC;FMTTYPE=text/html:<div style="text-align: center\;"><strong><span style="font-size:16px\;">Join Fun Bus for a SW Ohio Thrift Marathon Trip!</span></strong></div>\n<br />\n<span style="font-size:14px\;"><strong>Itinerary:</strong><br />\n8:15am Depart Athens..Wal-mart*<br />\n8:45am Depart Logan..Wal-mart*<br />\n9:15am Depart Lancaster.... Wal-mart*&nbsp\;<br />\n10:00 am Arrive Ohio Thrift... South High Street<br />\n11:00 am Depart<br />\n11:15 am Arrive Volunteers of America... Grove City<br />\n12:15 pm Depart<br />\n12:45 pm Arrive Ohio Thrift... Grove City<br />\n2:15 pm Depart<br />\n2:45 pm Arrive Ohio Thrift ... Refugee Rd.<br />\n3:45 pm Depart<br />\n4:15 pm Arrive Goodwill.... Canal Winchester<br />\n5:15 pm Depart<br />\n5:45 pm Arrive Lancaster... Wal-mart<br />\n6:15 pm Arrive Logan... Wal-mart<br />\n6:45 pm Arrive Athens... Wal-mart</span><br />\n&nbsp\;
LOCATION:
UID:e.3121.707
SEQUENCE:3
DTSTAMP:20260420T054845Z
URL:https://business.lancoc.org/events/details/fun-bus-sw-ohio-thrift-marathon-707
END:VEVENT

END:VCALENDAR
