BEGIN:VCALENDAR
VERSION:2.0
PRODID:-//ChamberMaster//Event Calendar 2.0//EN
METHOD:PUBLISH
X-PUBLISHED-TTL:P3D
REFRESH-INTERVAL:P3D
CALSCALE:GREGORIAN
BEGIN:VEVENT
DTSTART;VALUE=DATE:20211031
DTEND;VALUE=DATE:20211101
TRANSP:TRANSPARENT
X-MICROSOFT-CDO-ALLDAYEVENT:TRUE
SUMMARY:Fun Bus\, River Boat Brunch and Belterra Casino
DESCRIPTION:Fun Bus\, River Boat Brunch and Belterra Casino Trip\n\nFollow this link for an itinerary and to learn more: https://www.funbus.com/wp-content/uploads/2021/08/103121BBRiverBelterra-Cincinatti-.pdf
X-ALT-DESC;FMTTYPE=text/html:<div style="text-align: center\;"><span style="font-size:16px\;"><strong>Fun Bus\, River Boat Brunch and Belterra Casino Trip</strong></span></div>\n\n<div><span style="font-size:14px\;">Follow this link for an itinerary and to learn more:&nbsp\;<a href="https://www.funbus.com/wp-content/uploads/2021/08/103121BBRiverBelterra-Cincinatti-.pdf">https://www.funbus.com/wp-content/uploads/2021/08/103121BBRiverBelterra-Cincinatti-.pdf</a></span></div>\n
LOCATION:Pick Up Locations & Times: 7:30 am Depart Lancaster\, Fun Bus Terminal\, 2188 E Main St. 8:00 am Depart Jacksontown Park and Ride 8:30 am Depart Reynoldsburg\, Wal-mart 9:00 am Depart Grove City\, Wal-mart
UID:e.3121.686
SEQUENCE:3
DTSTAMP:20260420T074610Z
URL:https://business.lancoc.org/events/details/fun-bus-river-boat-brunch-and-belterra-casino-686
END:VEVENT

END:VCALENDAR
