BEGIN:VCALENDAR
VERSION:2.0
PRODID:-//ChamberMaster//Event Calendar 2.0//EN
METHOD:PUBLISH
X-PUBLISHED-TTL:P3D
REFRESH-INTERVAL:P3D
CALSCALE:GREGORIAN
BEGIN:VEVENT
DTSTART;VALUE=DATE:20211023
DTEND;VALUE=DATE:20211025
TRANSP:TRANSPARENT
X-MICROSOFT-CDO-ALLDAYEVENT:TRUE
SUMMARY:Fun Bus\, Hershey Park in the Dark Trip
DESCRIPTION:Fun Bus\, Hershey Park in the Dark\n\nHershey Red Eye Trip\n\n \n\nFollow this link for an itinerary and to learn more: https://www.funbus.com/wp-content/uploads/2021/09/10232021HersheyRedeye-3.pdf
X-ALT-DESC;FMTTYPE=text/html:<div style="text-align: center\;"><span style="font-size:16px\;"><strong>Fun Bus\, Hershey Park in the Dark<br />\nHershey Red Eye Trip</strong></span><br />\n&nbsp\;</div>\n\n<div><span style="font-size:14px\;">Follow this link for an itinerary and to learn more:&nbsp\;<a href="https://www.funbus.com/wp-content/uploads/2021/09/10232021HersheyRedeye-3.pdf">https://www.funbus.com/wp-content/uploads/2021/09/10232021HersheyRedeye-3.pdf</a></span></div>\n
LOCATION:Pick Up Times & Locations 5:30 am Lancaster\, Fun Bus Terminal at 2188 E Main St. 6:00 am Reynoldsburg\, Walmart 6:30 am Jacksontown\, Park and Ride 7:00 am Zanesville\, Visitor's Center 8:30 am Wheeling\, Kroger
UID:e.3121.687
SEQUENCE:3
DTSTAMP:20260420T054809Z
URL:https://business.lancoc.org/events/details/fun-bus-hershey-park-in-the-dark-trip-687
END:VEVENT

END:VCALENDAR
