BEGIN:VCALENDAR
VERSION:2.0
PRODID:-//ChamberMaster//Event Calendar 2.0//EN
METHOD:PUBLISH
X-PUBLISHED-TTL:P3D
REFRESH-INTERVAL:P3D
CALSCALE:GREGORIAN
BEGIN:VEVENT
DTSTART;VALUE=DATE:20211127
DTEND;VALUE=DATE:20211128
TRANSP:TRANSPARENT
X-MICROSOFT-CDO-ALLDAYEVENT:TRUE
SUMMARY:Fun Bus\, Grove City PA Outlets Trip
DESCRIPTION:Join Fun Bus on their Grove City PA Outlets Trip!\n\n\nItinerary:\n\n8:00 am Lancaster.... Fun Bus Terminal  at 2188 E Main St. \n\n8:30 am Reynoldsburg ....Walmart* \n\n9:00 am Easton... Walmart* Morse Rd \n\n9:30 am Polaris.... Kroger* Polaris Parkway \n\n10:00 am Cambridge ....Walmart*\n 12:30 pm Arrive Grove City \, PA \n\n6:00 pm Depart\n\n9:00 pm Arrive Cambridge ....Walmart* \n\n9:30 pm Arrive Polaris... Kroger* \n\n10:00 pm Arrive Easton.... Walmart* \n\n10:30 pm Arrive Reynoldsburg ....Walmart* \n\n11:00 pm Arrive Lancaster.... Fun Bus Terminal
X-ALT-DESC;FMTTYPE=text/html:<div style="text-align: center\;"><span style="font-size:16px\;"><strong>Join Fun Bus on their Grove City PA Outlets Trip!</strong></span></div>\n<br />\n<strong><span style="font-size:14px\;">Itinerary:</span></strong><br />\n<span style="font-size:14px\;">8:00 am Lancaster.... Fun Bus Terminal&nbsp\; at 2188 E Main St.&nbsp\;</span>\n\n<div><span style="font-size:14px\;">8:30 am Reynoldsburg ....Walmart*&nbsp\;</span></div>\n\n<div><span style="font-size:14px\;">9:00 am Easton... Walmart* Morse Rd&nbsp\;</span></div>\n\n<div><span style="font-size:14px\;">9:30 am Polaris.... Kroger* Polaris Parkway&nbsp\;</span></div>\n\n<div><span style="font-size:14px\;">10:00 am Cambridge ....Walmart*</span></div>\n<span style="font-size:14px\;"> 12:30 pm Arrive Grove City \, PA&nbsp\;<br />\n6:00 pm Depart<br />\n9:00 pm Arrive Cambridge ....Walmart*&nbsp\;</span>\n\n<div><span style="font-size:14px\;">9:30 pm Arrive Polaris... Kroger*&nbsp\;</span></div>\n\n<div><span style="font-size:14px\;">10:00 pm Arrive Easton.... Walmart*&nbsp\;</span></div>\n\n<div><span style="font-size:14px\;">10:30 pm Arrive Reynoldsburg ....Walmart*&nbsp\;</span></div>\n\n<div><span style="font-size:14px\;">11:00 pm Arrive Lancaster.... Fun Bus Terminal</span></div>\n
LOCATION:
UID:e.3121.709
SEQUENCE:3
DTSTAMP:20260420T042355Z
URL:https://business.lancoc.org/events/details/fun-bus-grove-city-pa-outlets-trip-709
END:VEVENT

END:VCALENDAR
