BEGIN:VCALENDAR
VERSION:2.0
PRODID:-//ChamberMaster//Event Calendar 2.0//EN
METHOD:PUBLISH
X-PUBLISHED-TTL:P3D
REFRESH-INTERVAL:P3D
CALSCALE:GREGORIAN
BEGIN:VEVENT
DTSTART;VALUE=DATE:20211128
DTEND;VALUE=DATE:20211129
TRANSP:TRANSPARENT
X-MICROSOFT-CDO-ALLDAYEVENT:TRUE
SUMMARY:Fun Bus\, A Christmas Story the Musical Trip
DESCRIPTION:Join Fun Bus on their Christmas Story the Musical\, Dinner Theater Trip!\n\n\nItinerary:\n\n7:00 am Lancaster.... Fun Bus Terminal  at 2188 E Main St. \n\n7:30 am Jacksontown...Park and Ride \n\n8:00 am Reynoldsburg... Walmart* \n\n8:30 am Easton....Walmart* Morse Rd \n\n9:00 am Hilliard ....Walmart*\n\n10:30 am Arrive La Comedia Springboro\, Ohio 11:00am Brunch before the show \n\n12:30pm Show Time!\n\n3:30pm Depart \n\n5:00 pm Arrive Hillard...Walmart\n\n5:30 pm Arrive Easton... Kroger\n\n 6:00 pm Arrive Reynoldsburg.... Walmart\n\n6:30 pm Arrive Jacksontown....Park and Ride 7:00 pm Arrive Lancaster.... Fun Bus Terminal
X-ALT-DESC;FMTTYPE=text/html:<div style="text-align: center\;"><span style="font-size:16px\;"><strong>Join Fun Bus on their Christmas Story the Musical\, Dinner Theater Trip!</strong></span></div>\n<br />\n<span style="font-size:16px\;"><strong><span style="font-size:14px\;">Itinerary:</span></strong></span><br />\n<span style="font-size:14px\;">7:00 am Lancaster.... Fun Bus Terminal&nbsp\; at 2188 E Main St.&nbsp\;</span>\n\n<div><span style="font-size:14px\;">7:30 am Jacksontown...Park and Ride&nbsp\;</span></div>\n\n<div><span style="font-size:14px\;">8:00 am Reynoldsburg... Walmart*&nbsp\;</span></div>\n\n<div><span style="font-size:14px\;">8:30 am Easton....Walmart* Morse Rd&nbsp\;</span></div>\n\n<div><span style="font-size:14px\;">9:00 am Hilliard ....Walmart*</span></div>\n\n<div><span style="font-size:14px\;">10:30 am Arrive La Comedia Springboro\, Ohio 11:00am Brunch before the show&nbsp\;</span></div>\n\n<div><span style="font-size:14px\;">12:30pm Show Time!</span></div>\n\n<div><span style="font-size:14px\;">3:30pm Depart&nbsp\;</span></div>\n\n<div><span style="font-size:14px\;">5:00 pm Arrive Hillard...Walmart</span></div>\n\n<div><span style="font-size:14px\;">5:30 pm Arrive Easton... Kroger</span></div>\n\n<div><span style="font-size:14px\;">&nbsp\;6:00 pm Arrive Reynoldsburg.... Walmart</span></div>\n\n<div><span style="font-size:14px\;">6:30 pm Arrive Jacksontown....Park and Ride 7:00 pm Arrive Lancaster.... Fun Bus Terminal</span></div>\n
LOCATION:
UID:e.3121.710
SEQUENCE:3
DTSTAMP:20260420T042354Z
URL:https://business.lancoc.org/events/details/fun-bus-a-christmas-story-the-musical-trip-710
END:VEVENT

END:VCALENDAR
