BEGIN:VCALENDAR
VERSION:2.0
PRODID:-//ChamberMaster//Event Calendar 2.0//EN
METHOD:PUBLISH
X-PUBLISHED-TTL:P3D
REFRESH-INTERVAL:P3D
CALSCALE:GREGORIAN
BEGIN:VEVENT
DTSTART;VALUE=DATE:20211103
DTEND;VALUE=DATE:20211107
TRANSP:TRANSPARENT
X-MICROSOFT-CDO-ALLDAYEVENT:TRUE
SUMMARY:Freedom's Never Free\, Event at the Fairfield County Fairgrounds
DESCRIPTION:Freedom's Never Free Event at the Fairfield County Fairgrounds\n\n\nSchedule of Events:\n\nWed.\, Nov. 3rd @ 4 p.m.   Traveling Memorials \n\n(Eyes of Freedom\, Small Wars & Conflicts\, 1st Responder) \n\nescort arrives at the Fairfield County Fairgrounds.\n\n\n\nThurs.\, Nov. 4th   Opening Ceremony @ 4 p.m.\n\nField of Heroes Posting of the Colors\n\nVeterans Pinning Ceremony\n\nDisplays\, McClain Silent Drill Team\n\n\n\nFri.\, Nov. 5th   Day of Remembrance\, USO Dance\, Displays\n\n\n\nSat.\, Nov. 6th @ 3 p.m.   Displays\, Guest Speakers\, \n\nMcClain Silent Drill Team\n\n\n\nFood Trucks will be onsite.
X-ALT-DESC;FMTTYPE=text/html:<div style="text-align: center\;"><span style="language:en-US\;"><span style="color:black\;"><span style="font-family:arial\;"><span style="font-size:12.0pt\;"><strong><span style="font-size:18px\;">Freedom&#39\;s Never Free Event at the Fairfield County Fairgrounds</span></strong></span></span></span></span></div>\n<br />\n<span style="language:en-US\;"><span style="color:black\;"><span style="font-family:arial\;"><span style="font-size:12.0pt\;"><span style="font-size:16px\;">Schedule of Events:<br />\nWed.\, Nov. 3</span></span></span></span></span><span style="font-size:16px\;"><span style="language:en-US\;vertical-align:super\;"><span style="color:black\;"><span style="font-family:arial\;">rd</span></span></span><span style="color:black\;"><span style="font-family:arial\;"> @ 4 p.m. &ndash\; Traveling Memorials </span></span><br />\n<span style="color:black\;"><span style="font-family:arial\;">(Eyes of Freedom\, Small Wars &amp\; Conflicts\, 1</span></span><span style="language:en-US\;vertical-align:super\;"><span style="color:black\;"><span style="font-family:arial\;">st</span></span></span><span style="color:black\;"><span style="font-family:arial\;"> Responder) </span></span><br />\n<span style="color:black\;"><span style="font-family:arial\;">escort arrives at the Fairfield County Fairgrounds.</span></span><br />\n<br />\n<span style="color:black\;"><span style="font-family:arial\;">Thurs.\, Nov. 4</span></span><span style="language:en-US\;vertical-align:super\;"><span style="color:black\;"><span style="font-family:arial\;">th</span></span></span><span style="color:black\;"><span style="font-family:arial\;"> &ndash\; Opening Ceremony @ 4 p.m.</span></span><br />\n<span style="color:black\;"><span style="font-family:arial\;">Field of Heroes Posting of the Colors</span></span><br />\n<span style="color:black\;"><span style="font-family:arial\;">Veterans Pinning Ceremony</span></span><br />\n<span style="color:black\;"><span style="font-family:arial\;">Displays\, McClain Silent Drill Team</span></span><br />\n<br />\n<span style="color:black\;"><span style="font-family:arial\;">Fri.\, Nov. 5</span></span><span style="language:en-US\;vertical-align:super\;"><span style="color:black\;"><span style="font-family:arial\;">th</span></span></span><span style="color:black\;"><span style="font-family:arial\;"> &ndash\; Day of Remembrance\, USO Dance\, Displays</span></span><br />\n<br />\n<span style="color:black\;"><span style="font-family:arial\;">Sat.\, Nov. 6</span></span><span style="language:en-US\;vertical-align:super\;"><span style="color:black\;"><span style="font-family:arial\;">th</span></span></span><span style="color:black\;"><span style="font-family:arial\;"> @ 3 p.m. &ndash\; Displays\, Guest Speakers\, </span></span><br />\n<span style="color:black\;"><span style="font-family:arial\;">McClain Silent Drill Team<br />\n<br />\nFood Trucks will be onsite.</span></span></span><br />\n&nbsp\;
LOCATION:Fairfield County Fairgrounds 157 E. Fair Ave Lancaster\, OH
UID:e.3121.721
SEQUENCE:3
DTSTAMP:20260420T042436Z
URL:https://business.lancoc.org/events/details/freedom-s-never-free-event-at-the-fairfield-county-fairgrounds-721
END:VEVENT

END:VCALENDAR
