BEGIN:VCALENDAR
VERSION:2.0
PRODID:-//ChamberMaster//Event Calendar 2.0//EN
METHOD:PUBLISH
X-PUBLISHED-TTL:P3D
REFRESH-INTERVAL:P3D
CALSCALE:GREGORIAN
BEGIN:VEVENT
DTSTART;VALUE=DATE:20210917
DTEND;VALUE=DATE:20210919
TRANSP:TRANSPARENT
X-MICROSOFT-CDO-ALLDAYEVENT:TRUE
SUMMARY:FAIRHOPE Hospice & Palliative Care\, Trash to Treasure Sale
DESCRIPTION:Join FAIRHOPE Hospice & Palliative Care at their Trash to Treasure Sale!\n\nThe Event runs Friday\, September 17th from 8 am - 4 pm\n\nand Saturday\, September 18th from 8 am - 2 pm.\n\n\n\nYou can drop off items at the Fairfield County Fairgrounds in Lancaster on September 13th\, 14th & 15th from 10am - 4 pm or on September 16th from 10 am - 6 pm.\n\nNo clothing donations please
X-ALT-DESC;FMTTYPE=text/html:<div style="text-align: center\;">Join FAIRHOPE Hospice &amp\; Palliative Care at their <strong>Trash to Treasure Sale</strong>!<br />\nThe Event runs Friday\, September 17th from 8 am - 4 pm<br />\nand Saturday\, September 18th from 8 am - 2 pm.<br />\n<br />\nYou can drop off items at the Fairfield County Fairgrounds in Lancaster on September 13th\, 14th &amp\; 15th from 10am - 4 pm or on September 16th from&nbsp\;10 am - 6 pm.<br />\n<em>No clothing donations please</em></div>\n
LOCATION:Fairfield County Fairgrounds in Lancaster. 157 E. Fair Ave Lancaster\, OH
UID:e.3121.675
SEQUENCE:3
DTSTAMP:20260420T073523Z
URL:https://business.lancoc.org/events/details/fairhope-hospice-palliative-care-trash-to-treasure-sale-675
END:VEVENT

END:VCALENDAR
