BEGIN:VCALENDAR
VERSION:2.0
PRODID:-//ChamberMaster//Event Calendar 2.0//EN
METHOD:PUBLISH
X-PUBLISHED-TTL:P3D
REFRESH-INTERVAL:P3D
CALSCALE:GREGORIAN
BEGIN:VEVENT
DTSTART:20211104T200000Z
DTEND:20211104T200000Z
X-MICROSOFT-CDO-ALLDAYEVENT:FALSE
SUMMARY:FAIRHOPE Hospice & Palliative Care invites You to Freedom's Never Free\, Veteran Pinning Ceremony
DESCRIPTION:Join FAIRHOPE Hospice & Palliative Care and Freedom's Never Free for a pinning ceremony\, honoring those who have served our country.\n\n\n\nAll veterans and first responders will be honored with a certificate and pin. We thank them for their service.
X-ALT-DESC;FMTTYPE=text/html:Join FAIRHOPE Hospice &amp\; Palliative Care and Freedom&#39\;s Never Free for a pinning ceremony\, honoring those who have served our country.<br />\n<br />\nAll veterans and first responders will be honored with a certificate and pin. We thank them for their service.&nbsp\;
LOCATION:Fairfield County Fairgrounds Ed Sands Building 157 E Fair Ave Lancaster\, OH 43130
UID:e.3121.715
SEQUENCE:3
DTSTAMP:20260420T060311Z
URL:https://business.lancoc.org/events/details/fairhope-hospice-palliative-care-invites-you-to-freedom-s-never-free-veteran-pinning-ceremony-715
END:VEVENT

END:VCALENDAR
