BEGIN:VCALENDAR
VERSION:2.0
PRODID:-//ChamberMaster//Event Calendar 2.0//EN
METHOD:PUBLISH
X-PUBLISHED-TTL:P3D
REFRESH-INTERVAL:P3D
CALSCALE:GREGORIAN
BEGIN:VEVENT
DTSTART:20210515T121500Z
DTEND:20210515T121500Z
X-MICROSOFT-CDO-ALLDAYEVENT:FALSE
SUMMARY:Fairfield Union Local School District's Football Golf Outing
DESCRIPTION:4 Person Scramble\n\nUse the flyer HERE to register and to learn more about sponsorship opportunities \n\n\n\nProceeds raised from this event will be used to fund Fairfield Union football program to assist the coaching staff and players in game preparation\, game time activities\, team practices or off-season training activities.\n\nQuestions contact Head football coach Sean Krupla seankrupla@gmail.com 843-830-5882
X-ALT-DESC;FMTTYPE=text/html:4 Person Scramble<br />\nUse the flyer <a href="https://filecabinet10.eschoolview.com/CAE134F3-53D6-4486-AEB9-D7D46A79BE03/5c1e294a-6de3-43a9-bcad-fb898d652be4.pdf">HERE</a> to register and to learn more about sponsorship opportunities&nbsp\;<br />\n<br />\nProceeds raised from this event will be used to fund Fairfield Union football program to assist the coaching staff and players in game preparation\, game time activities\, team practices or off-season training activities.<br />\nQuestions contact Head football coach Sean Krupla seankrupla@gmail.com 843-830-5882
LOCATION:Pumpkin Vine Golf Course
UID:e.3121.570
SEQUENCE:3
DTSTAMP:20260422T145332Z
URL:https://business.lancoc.org/events/details/fairfield-union-local-school-district-s-football-golf-outing-570
END:VEVENT

END:VCALENDAR
