BEGIN:VCALENDAR
VERSION:2.0
PRODID:-//ChamberMaster//Event Calendar 2.0//EN
METHOD:PUBLISH
X-PUBLISHED-TTL:P3D
REFRESH-INTERVAL:P3D
CALSCALE:GREGORIAN
BEGIN:VEVENT
DTSTART:20211004T210000Z
DTEND:20211004T230000Z
X-MICROSOFT-CDO-ALLDAYEVENT:FALSE
SUMMARY:Fairfield Soil and Water Conservation District\, October Pond Workshop
DESCRIPTION:Licking & Fairfield Soil and Water Conservation District's will be hosting a workshop on "How to Build & Maintain A Healthy Pond" on October 4\, 2021 from 5   7 p.m. Event is free\; however RSVPs are requested.\n\n\n\nLink on our website for info:  https://fairfieldswcd.org/wp-content/uploads/2021/09/2021-10-4-pond-clinic.pdf
X-ALT-DESC;FMTTYPE=text/html:Licking &amp\; Fairfield Soil and Water Conservation District&rsquo\;s will be hosting a workshop on &ldquo\;How to Build &amp\; Maintain A Healthy Pond&rdquo\; on October 4\, 2021 from 5 &ndash\; 7 p.m. Event is free\; however RSVPs are requested.<br />\n<br />\nLink on our website for info:&nbsp\; <a href="https://fairfieldswcd.org/wp-content/uploads/2021/09/2021-10-4-pond-clinic.pdf">https://fairfieldswcd.org/wp-content/uploads/2021/09/2021-10-4-pond-clinic.pdf</a><br />\n&nbsp\;
LOCATION:Howard Emswiler Conference Center 13167 Morse Rd\, SW. Pataskala\, OH
UID:e.3121.703
SEQUENCE:3
DTSTAMP:20260420T054940Z
URL:https://business.lancoc.org/events/details/fairfield-soil-and-water-conservation-district-october-pond-workshop-703
END:VEVENT

END:VCALENDAR
