BEGIN:VCALENDAR
VERSION:2.0
PRODID:-//ChamberMaster//Event Calendar 2.0//EN
METHOD:PUBLISH
X-PUBLISHED-TTL:P3D
REFRESH-INTERVAL:P3D
CALSCALE:GREGORIAN
BEGIN:VEVENT
DTSTART:20211023T140000Z
DTEND:20211023T180000Z
X-MICROSOFT-CDO-ALLDAYEVENT:FALSE
SUMMARY:Fairfield Soil and Water Conservation District\, Drug & Electronics Collection Event
DESCRIPTION:Join the Fairfield Soil and Water Conservation District at a\n\nDrug and Electronics Collection Event!\n\n\n\nPrescription pills and capsules will be collected\n\nNo aerosols\, inhalers\, creams\, gels\, ointments\, powders\, patches\, suppositories\,\n\nsyringes or IVs will be accepted\n\nPlease black out all personal information in advance\n\n\n\n  Electronic items collected include computers\, laptops\, printers\,\n\ncables\, mouses\, keyboards\, discs\, electronic clocks\, VHS/DVD players\,\n\nradios\, cell phones\n\nTVs - $1 per diagonal inch\n\nComputer monitors - $5 each\n\n Only cash and checks will be accepted as payment for disposal fees.
X-ALT-DESC;FMTTYPE=text/html:<div style="text-align: center\;"><span style="font-size:16px\;"><strong>Join the Fairfield Soil and Water Conservation District at a<br />\nDrug and Electronics Collection Event!</strong></span><br />\n<br />\n<u>Prescription pills and capsules will be collected</u><br />\nNo aerosols\, inhalers\, creams\, gels\, ointments\, powders\, patches\, suppositories\,<br />\nsyringes or IVs will be accepted<br />\n<strong>Please black out all personal information in advance</strong><br />\n<br />\n&#10146\; Electronic items collected include computers\, laptops\, printers\,<br />\ncables\, mouses\, keyboards\, discs\, electronic clocks\, VHS/DVD players\,<br />\nradios\, cell phones<br />\n<strong>TVs - $1 per diagonal inch<br />\nComputer monitors - $5 each</strong><br />\n<em><strong>&nbsp\;Only cash and checks will be accepted as payment for disposal fees.</strong></em></div>\n
LOCATION:Violet Township Service Center 490 N. Center Street in Pickerington Corner of Stemen Rd\, please enter through N. Center Street entrance.
UID:e.3121.704
SEQUENCE:3
DTSTAMP:20260420T055128Z
URL:https://business.lancoc.org/events/details/fairfield-soil-and-water-conservation-district-drug-electronics-collection-event-704
END:VEVENT

END:VCALENDAR
