BEGIN:VCALENDAR
VERSION:2.0
PRODID:-//ChamberMaster//Event Calendar 2.0//EN
METHOD:PUBLISH
X-PUBLISHED-TTL:P3D
REFRESH-INTERVAL:P3D
CALSCALE:GREGORIAN
BEGIN:VEVENT
DTSTART:20211026T213000Z
DTEND:20211026T233000Z
X-MICROSOFT-CDO-ALLDAYEVENT:FALSE
SUMMARY:Fairfield Medical Center\, Virtual Job Fair
DESCRIPTION:Join Fairfield Medical Center for a Virtual Job Fair\n\n\n\nFor more than a century\, we have been a regional healthcare\n\nprovider who delivers exceptional care to our patients by\n\ncreating exceptional experiences for our employees.\n\nJoin us to explore available career opportunities!\n\n\n\nClick HERE to Register.
X-ALT-DESC;FMTTYPE=text/html:<div style="text-align: center\;"><strong><span style="font-size:16px\;">Join Fairfield Medical Center for a Virtual Job Fai</span>r</strong><br />\n<br />\n<span style="font-size:14px\;">For more than a century\, we have been a regional healthcare<br />\nprovider who delivers exceptional care to our patients by<br />\ncreating exceptional experiences for our employees.<br />\nJoin us to explore available career opportunities!</span><br />\n<br />\n<span style="font-size:16px\;">Click <a href="https://portal.premiervirtual.com/event/register-jobseeker/9633-fairfield-medical-center-hiring-event">HERE</a> to Register.&nbsp\;</span></div>\n
LOCATION:Virtual Event
UID:e.3121.716
SEQUENCE:3
DTSTAMP:20260420T074833Z
URL:https://business.lancoc.org/events/details/fairfield-medical-center-virtual-job-fair-716
END:VEVENT

END:VCALENDAR
