BEGIN:VCALENDAR
VERSION:2.0
PRODID:-//ChamberMaster//Event Calendar 2.0//EN
METHOD:PUBLISH
X-PUBLISHED-TTL:P3D
REFRESH-INTERVAL:P3D
CALSCALE:GREGORIAN
BEGIN:VEVENT
DTSTART:20210607T160000Z
DTEND:20210607T170000Z
X-MICROSOFT-CDO-ALLDAYEVENT:FALSE
SUMMARY:Fairfield Medical Center's Cancer Survivor's Day Live Life in Full Bloom Drive-Thru Event
DESCRIPTION:Hosted by the Cancer Care & Infusion Center. National Cancer Survivors Day is an opportunity to recognize\, celebrate and support those who have journeyed through cancer.\n\n\n\nCancer Survivors will receive a special gift for them and a guest during the drive-thru celebration. All attendees are asked to wear a mask and remain in their vehicles.\n\n\n\nRegistration is required. Please RSVP by calling 740-687-6900
X-ALT-DESC;FMTTYPE=text/html:Hosted by the Cancer Care &amp\; Infusion Center. National Cancer Survivors Day is an opportunity to recognize\, celebrate and support those who have journeyed through cancer.<br />\n<br />\nCancer Survivors will receive a special gift for them and a guest during the drive-thru celebration. All attendees are asked to wear a mask and remain in their vehicles.<br />\n<br />\n<em>Registration is required. Please RSVP by calling 740-687-6900</em>
LOCATION:Fairfield Medical Center's Cancer Care & Infusion Center 135 N. Ewing St\, Lancaster (Please enter from the back side of the pavilion nearest the hospital)
UID:e.3121.588
SEQUENCE:3
DTSTAMP:20260422T130135Z
URL:https://business.lancoc.org/events/details/fairfield-medical-center-s-cancer-survivor-s-day-live-life-in-full-bloom-drive-thru-event-588
END:VEVENT

END:VCALENDAR
