BEGIN:VCALENDAR
VERSION:2.0
PRODID:-//ChamberMaster//Event Calendar 2.0//EN
METHOD:PUBLISH
X-PUBLISHED-TTL:P3D
REFRESH-INTERVAL:P3D
CALSCALE:GREGORIAN
BEGIN:VEVENT
DTSTART:20211009T113000Z
DTEND:20211009T113000Z
X-MICROSOFT-CDO-ALLDAYEVENT:FALSE
SUMMARY:Fairfield Medical Center Memorial TWIG 1\, Cancer Care Run
DESCRIPTION:Join Fairfield Medical Center for their Memorial Twig 1\, Cancer Care Run\n\n\n\nWHAT: TWIG One's annual 5K run & 2-mile\n\nwalk supporting local patients fighting\n\ncancer. Includes chip timing!\n\n \n\nDATE: Saturday\, Oct. 9\, 2021\n\n \n\nONLINE REGISTRATION NOW OPEN\n\n \n\nSPONSORSHIP OPPORTUNITIES:\n\ncall Risha Wagner 740-215-3503\n\n \n\nSUPPORT A LOVED ONE:\n\nPurchase a memorial sign in\n\nhonor of someone who had\n\nor is fighting cancer. Memorial\n\nsigns are $25 and can be\n\npurchased online or from a\n\nTWIG member. More info on Facebook @CancerCareRun or online at bit.ly/TWIGOne.\n\n \n\n\nAll money raised by TWIG One goes to benefit local patients of Fairfield Medical Center   specifically those battling cancer. Through the Fairfield Medical Center Foundation\, we have set up a Cancer Care Fund that benefits local cancer patients by helping with nutritional supplements\, diagnostic and preventative treatments and other necessary items not covered by insurance.\n\n\n\nWe have all been impacted by cancer in one way or another\, and many of us know all too well the impact this disease can have on a person and their family and friends. Being able to receive treatment and support close to home is important to members of our community\, and the TWIG One Cancer Care Fund is one way we can make that care more comfortable and more of an option here in Fairfield County
X-ALT-DESC;FMTTYPE=text/html:<div style="text-align: center\;"><strong><span style="font-size:16px\;">Join Fairfield Medical Center for their Memorial Twig 1\, Cancer Care Run</span></strong></div>\n\n<div><br />\n<strong>WHAT</strong>: TWIG One&rsquo\;s annual 5K run &amp\; 2-mile</div>\n\n<div>walk supporting local patients fighting</div>\n\n<div>cancer. Includes chip timing!</div>\n\n<div>&nbsp\;</div>\n\n<div><strong>DATE</strong>: Saturday\, Oct. 9\, 2021</div>\n\n<div>&nbsp\;</div>\n\n<div><strong>ONLINE REGISTRATION NOW OPEN</strong></div>\n\n<div>&nbsp\;</div>\n\n<div><strong>SPONSORSHIP OPPORTUNITIES:</strong></div>\n\n<div>call Risha Wagner 740-215-3503</div>\n\n<div>&nbsp\;</div>\n\n<div><strong>SUPPORT A LOVED ONE:</strong></div>\n\n<div>Purchase a memorial sign in</div>\n\n<div>honor of someone who had</div>\n\n<div>or is fighting cancer. Memorial</div>\n\n<div>signs are $25 and can be</div>\n\n<div>purchased online or from a</div>\n\n<div>TWIG member. More info on Facebook @CancerCareRun or online at&nbsp\;<a href="http://bit.ly/TWIGOne">bit.ly/TWIGOne</a>.</div>\n\n<div>&nbsp\;</div>\n\n<div>\n<div>All money raised by TWIG One goes to benefit local patients of Fairfield Medical Center &ndash\; specifically those battling cancer. Through the Fairfield Medical Center Foundation\, we have set up a Cancer Care Fund that benefits local cancer patients by helping with nutritional supplements\, diagnostic and preventative treatments and other necessary items not covered by insurance.</div>\n\n<div><br />\nWe have all been impacted by cancer in one way or another\, and many of us know all too well the impact this disease can have on a person and their family and friends. Being able to receive treatment and support close to home is important to members of our community\, and the TWIG One Cancer Care Fund is one way we can make that care more comfortable and more of an option here in Fairfield County</div>\n</div>\n
LOCATION:Martens Park 261 Cedar Hill Rd\, Lancaster\, OH 43130
UID:e.3121.702
SEQUENCE:3
DTSTAMP:20260420T060347Z
URL:https://business.lancoc.org/events/details/fairfield-medical-center-memorial-twig-1-cancer-care-run-702
END:VEVENT

END:VCALENDAR
