BEGIN:VCALENDAR
VERSION:2.0
PRODID:-//ChamberMaster//Event Calendar 2.0//EN
METHOD:PUBLISH
X-PUBLISHED-TTL:P3D
REFRESH-INTERVAL:P3D
CALSCALE:GREGORIAN
BEGIN:VEVENT
DTSTART:20210921T150000Z
DTEND:20210922T170000Z
X-MICROSOFT-CDO-ALLDAYEVENT:FALSE
SUMMARY:Fairfield Medical Center\, Hiring Event
DESCRIPTION:Fairfield Medical Center Virtual Hiring Event\n\nFor more than a century\, we have been a regional healthcare provider who delivers exceptional care to our patients by creating exceptional experiences for our employees.\n\n\n\nJoin us to explore available career opportunities. \n\n\n\nClick HERE to Register
X-ALT-DESC;FMTTYPE=text/html:<span style="font-size:16px\;"><strong>Fairfield Medical Center Virtual Hiring Event</strong></span><br />\nFor more than a century\, we have been a regional healthcare provider who delivers exceptional care to our patients by creating exceptional experiences for our employees.<br />\n<br />\nJoin us to explore available career opportunities.&nbsp\;<br />\n<br />\nClick <a href="https://portal.premiervirtual.com/event/register-jobseeker/9231-fairfield-medical-center-hiring-event">HERE</a> to Register
LOCATION:Virtual
UID:e.3121.672
SEQUENCE:3
DTSTAMP:20260420T073407Z
URL:https://business.lancoc.org/events/details/fairfield-medical-center-hiring-event-672
END:VEVENT

END:VCALENDAR
