BEGIN:VCALENDAR
VERSION:2.0
PRODID:-//ChamberMaster//Event Calendar 2.0//EN
METHOD:PUBLISH
X-PUBLISHED-TTL:P3D
REFRESH-INTERVAL:P3D
CALSCALE:GREGORIAN
BEGIN:VEVENT
DTSTART:20210909T220000Z
DTEND:20210910T000000Z
X-MICROSOFT-CDO-ALLDAYEVENT:FALSE
SUMMARY:Fairfield Heritage Telethon
DESCRIPTION:Join us for the second annual Fairfield Heritage Telethon. This essential fundraiser supports the work of the county historical society\, which owns and operates the Sherman House Museum and the Georgian Museum\; supports restoration and revitalization\; and provides educational programming. Its mission is to connect all people to the rich heritage of Fairfield County\, Ohio.
X-ALT-DESC;FMTTYPE=text/html:Join us for the second annual Fairfield Heritage Telethon. This essential fundraiser supports the work of the county historical society\, which owns and operates the Sherman House Museum and the Georgian Museum\; supports restoration and revitalization\; and provides educational programming. Its mission is to connect all people to the rich heritage of Fairfield County\, Ohio.
LOCATION:The Georgian Museum
UID:e.3121.614
SEQUENCE:3
DTSTAMP:20260420T072331Z
URL:https://business.lancoc.org/events/details/fairfield-heritage-telethon-614
END:VEVENT

END:VCALENDAR
