BEGIN:VCALENDAR
VERSION:2.0
PRODID:-//ChamberMaster//Event Calendar 2.0//EN
METHOD:PUBLISH
X-PUBLISHED-TTL:P3D
REFRESH-INTERVAL:P3D
CALSCALE:GREGORIAN
BEGIN:VEVENT
DTSTART:20210707T220000Z
DTEND:20210707T233000Z
X-MICROSOFT-CDO-ALLDAYEVENT:FALSE
SUMMARY:Fairfield County Heritage Association's First Wednesday Walking Tours
DESCRIPTION:July Walking Tours Focuses on Ewings\n\nMary Lawrence will lead tours at 6:00 pm and 7:30 pm\n\nTo order Tickets\, Call 740-654-9923 or email office@FairfieldHeritage.org
X-ALT-DESC;FMTTYPE=text/html:July Walking Tours Focuses on Ewings<br />\nMary Lawrence will lead tours at 6:00 pm and 7:30 pm<br />\nTo order Tickets\, Call 740-654-9923 or email office@FairfieldHeritage.org&nbsp\;
LOCATION:
UID:e.3121.599
SEQUENCE:3
DTSTAMP:20260422T110348Z
URL:https://business.lancoc.org/events/details/fairfield-county-heritage-association-s-first-wednesday-walking-tours-599
END:VEVENT

END:VCALENDAR
