BEGIN:VCALENDAR
VERSION:2.0
PRODID:-//ChamberMaster//Event Calendar 2.0//EN
METHOD:PUBLISH
X-PUBLISHED-TTL:P3D
REFRESH-INTERVAL:P3D
CALSCALE:GREGORIAN
BEGIN:VEVENT
DTSTART:20210729T140000Z
DTEND:20210729T170000Z
X-MICROSOFT-CDO-ALLDAYEVENT:FALSE
SUMMARY:Fairfield County Heritage Association Presents\, Barn Tales by Robert Kroeger
DESCRIPTION:Mr. Kroeger will complete a barn painting\, to be awarded to someone in the audience\, while sharing stories of his adventures painting barns. He will also sign copies of his book\, Historic Barns of Ohio\, which will be on sale.\n\n\n\nFollow this link to learn more and to buy tickets:  https://www.fairfieldheritage.com/FHA-Events.html
X-ALT-DESC;FMTTYPE=text/html:Mr. Kroeger will complete a barn painting\, to be awarded to someone in the audience\, while sharing stories of his adventures painting barns. He will also sign copies of his book\, <em>Historic Barns of Ohio</em>\, which will be on sale.<br />\n<br />\nFollow this link to learn more and to buy tickets:&nbsp\;&nbsp\;<a href="https://www.fairfieldheritage.com/FHA-Events.html">https://www.fairfieldheritage.com/FHA-Events.html</a>
LOCATION:Ohio Glass Museum Auditorium 124 W. Main St\, Lancaster\, OH
UID:e.3121.598
SEQUENCE:3
DTSTAMP:20260422T110418Z
URL:https://business.lancoc.org/events/details/fairfield-county-heritage-association-presents-barn-tales-by-robert-kroeger-598
END:VEVENT

END:VCALENDAR
