BEGIN:VCALENDAR
VERSION:2.0
PRODID:-//ChamberMaster//Event Calendar 2.0//EN
METHOD:PUBLISH
X-PUBLISHED-TTL:P3D
REFRESH-INTERVAL:P3D
CALSCALE:GREGORIAN
BEGIN:VEVENT
DTSTART;VALUE=DATE:20191007
DTEND;VALUE=DATE:20191013
TRANSP:TRANSPARENT
X-MICROSOFT-CDO-ALLDAYEVENT:TRUE
SUMMARY:Fairfield County Fair
DESCRIPTION:169th Fairfield County Fair\n\n\n\nClick here for the Fairfield County Fair Schedule
X-ALT-DESC;FMTTYPE=text/html:169th Fairfield County Fair<br />\n<br />\n<a href="http://www.fairfieldcountyfair.org/fair-program" style="color: rgb(7\, 130\, 193)\; font-family: sans-serif\, Arial\, Verdana\, &quot\;Trebuchet MS&quot\;\; font-size: 13px\;">Click here</a><span style="color: rgb(51\, 51\, 51)\; font-family: sans-serif\, Arial\, Verdana\, &quot\;Trebuchet MS&quot\;\; font-size: 13px\; background-color: rgb(255\, 255\, 255)\;">&nbsp\;for the Fairfield County Fair Schedule</span>
LOCATION:Fairfield County Fairgrounds 157 E. Fair Avenue Lancaster\, Ohio 43130 A FREE Shuttle Service will be provided starting Wednesday\, 10/09/19 from one location to the Fairgrounds : River Valley Mall Times for the shuttle : 10:00 AM - 10:00 PM Drop off and pick up at the fairgrounds will be at the main gate.
UID:e.3121.363
SEQUENCE:3
DTSTAMP:20260424T043120Z
URL:https://business.lancoc.org/events/details/fairfield-county-fair-363
END:VEVENT

END:VCALENDAR
