BEGIN:VCALENDAR
VERSION:2.0
PRODID:-//ChamberMaster//Event Calendar 2.0//EN
METHOD:PUBLISH
X-PUBLISHED-TTL:P3D
REFRESH-INTERVAL:P3D
CALSCALE:GREGORIAN
BEGIN:VEVENT
DTSTART:20211215T140000Z
DTEND:20211215T160000Z
X-MICROSOFT-CDO-ALLDAYEVENT:FALSE
SUMMARY:Fairfield County Economic Update
DESCRIPTION:Annual Economic Outlook\n\nJoin us on Wednesday\, December 15th for the Annual Economic Outlook event in partnership with the Fairfield 33 Alliance\, the Lancaster-Fairfield County Chamber\, and the Pickerington Area Chamber.  \n\n Fairfield County\, like the rest of the country\, continues to see a gap in its workforce. Learn from companies and workforce specialists about what is causing this trend and ways to adapt to this changing labor model. \n\n\n\nregister HERE
X-ALT-DESC;FMTTYPE=text/html:<strong><span style="font-size:20px\;">Annual Economic Outlook</span></strong><br />\n<span style="font-size:14px\;"><span style="color: rgb(51\, 51\, 51)\; font-family: Verdana\, Geneva\, sans-serif\; background-color: rgb(255\, 255\, 255)\;">Join us on&nbsp\;</span><span style="box-sizing: border-box\; font-weight: bolder\; color: rgb(51\, 51\, 51)\; font-family: Verdana\, Geneva\, sans-serif\; background-color: rgb(255\, 255\, 255)\;">Wednesday\, December 15th for</span><span style="color: rgb(51\, 51\, 51)\; font-family: Verdana\, Geneva\, sans-serif\; background-color: rgb(255\, 255\, 255)\;">&nbsp\;the&nbsp\;</span><span style="box-sizing: border-box\; font-weight: bolder\; color: rgb(51\, 51\, 51)\; font-family: Verdana\, Geneva\, sans-serif\; background-color: rgb(255\, 255\, 255)\;">Annual Economic Outlook&nbsp\;</span><span style="color: rgb(51\, 51\, 51)\; font-family: Verdana\, Geneva\, sans-serif\; background-color: rgb(255\, 255\, 255)\;">event in partnership with the&nbsp\;</span><span style="box-sizing: border-box\; font-weight: bolder\; outline: 0px\; color: rgb(51\, 51\, 51)\; font-family: Verdana\, Geneva\, sans-serif\; background-color: rgb(255\, 255\, 255)\;">Fairfield 33 Alliance\, the Lancaster-Fairfield County Chamber\, and the Pickerington Area Chamber.&nbsp\;&nbsp\;</span><br style="box-sizing: border-box\; color: rgb(51\, 51\, 51)\; font-family: Verdana\, Geneva\, sans-serif\; font-size: 16px\; background-color: rgb(255\, 255\, 255)\;" />\n<font face="Verdana\, Geneva\, sans-serif">&nbsp\;Fairfield County\, like the rest of the country\, continues to see a gap in its workforce. Learn from companies and workforce specialists about what is causing this trend and ways to adapt to this changing labor model.&nbsp\;<br />\n<br />\nregister <a href="https://www.eventbrite.com/e/fairfield-county-economic-update-tickets-217068496717">HERE</a></font></span>
LOCATION:Fairfield County Workforce Center 4465 Coonpath Road NW Carroll\, Ohio 43112
UID:e.3121.746
SEQUENCE:3
DTSTAMP:20260420T021736Z
URL:https://business.lancoc.org/events/details/fairfield-county-economic-update-746
END:VEVENT

END:VCALENDAR
