BEGIN:VCALENDAR
VERSION:2.0
PRODID:-//ChamberMaster//Event Calendar 2.0//EN
METHOD:PUBLISH
X-PUBLISHED-TTL:P3D
REFRESH-INTERVAL:P3D
CALSCALE:GREGORIAN
BEGIN:VEVENT
DTSTART:20210820T230000Z
DTEND:20210822T180000Z
X-MICROSOFT-CDO-ALLDAYEVENT:FALSE
SUMMARY:Fairfield County District Library Garret Players present The Cemetery Club
DESCRIPTION:The Cemetery Club is presented by special arrangement with SAMUEL FRENCH\, Inc.\n\nA dramatic comedy by\n\nIvan Mendell\n\nDirected by\n\nCathy Bitler\n\n	Library will open 30 minutes before curtain time Friday & Saturday\n	Seating will be limited to 100 for each performance\n	There is no admission charge\n	All donations will support the Friends of the Library\n	Suitable for adults\n	Masks requested for those unvaccinated\n\nShowtimes are:\n\n\n	Friday\, Aug 20th at 7 pm\n	Saturday Aug 21st at 7 pm\n	Sunday\, Aug 22nd at 2pm
X-ALT-DESC;FMTTYPE=text/html:The <strong>Cemetery Club</strong> is presented by special arrangement with SAMUEL FRENCH\, Inc.<br />\nA dramatic comedy by<br />\nIvan Mendell<br />\nDirected by<br />\nCathy Bitler\n<ul>\n	<li>Library will open 30 minutes before curtain time Friday &amp\; Saturday</li>\n	<li>Seating will be limited to 100 for each performance</li>\n	<li>There is no admission charge</li>\n	<li>All donations will support the Friends of the Library</li>\n	<li>Suitable for adults</li>\n	<li>Masks requested for those unvaccinated</li>\n</ul>\n<strong>Showtimes are:</strong>\n\n<ul>\n	<li>Friday\, Aug 20th at 7 pm</li>\n	<li>Saturday Aug 21st at 7 pm</li>\n	<li>Sunday\, Aug 22nd at 2pm</li>\n</ul>\n
LOCATION:Fairfield County District Library Third Floor Garret 219 N. Broad St.\, Lancaster\, OH
UID:e.3121.636
SEQUENCE:3
DTSTAMP:20260422T091827Z
URL:https://business.lancoc.org/events/details/fairfield-county-district-library-garret-players-present-the-cemetery-club-636
END:VEVENT

END:VCALENDAR
