BEGIN:VCALENDAR
VERSION:2.0
PRODID:-//ChamberMaster//Event Calendar 2.0//EN
METHOD:PUBLISH
X-PUBLISHED-TTL:P3D
REFRESH-INTERVAL:P3D
CALSCALE:GREGORIAN
BEGIN:VEVENT
DTSTART:20210929T150000Z
DTEND:20210929T150000Z
X-MICROSOFT-CDO-ALLDAYEVENT:FALSE
SUMMARY:Fairfield County District Library\, Free Screenings of Manhattan Short Film Festival
DESCRIPTION:MANHATTAN SHORT screens 10 compelling short films in over 500 locations simultaneously. The audience votes for their choice of Best Film and Best Actor. Then on the last day of the festival\, the short films with the most votes are announced as the winners. MANHATTAN SHORT is for film lovers who want to experience unique and riveting stories from all around the world.\n\n\n\nRegister online at www.fcdlibrary.org or call (740) 653-2745\, ext. #160.
X-ALT-DESC;FMTTYPE=text/html:MANHATTAN SHORT screens 10 compelling short films in over 500 locations simultaneously. The audience votes for their choice of Best Film and Best Actor. Then on the last day of the festival\, the short films with the most votes are announced as the winners. MANHATTAN SHORT is for film lovers who want to experience unique and riveting stories from all around the world.<br />\n<br />\nRegister online at <a href="http://www.fcdlibrary.org">www.fcdlibrary.org</a> or call (740) 653-2745\, ext. #160.
LOCATION:Free screenings will be held at the Fairfield County District Library Third Floor Gallery 219 N. Broad Street\, Lancaster\, Ohio
UID:e.3121.693
SEQUENCE:3
DTSTAMP:20260420T075149Z
URL:https://business.lancoc.org/events/details/fairfield-county-district-library-free-screenings-of-manhattan-short-film-festival-693
END:VEVENT

END:VCALENDAR
