BEGIN:VCALENDAR
VERSION:2.0
PRODID:-//ChamberMaster//Event Calendar 2.0//EN
METHOD:PUBLISH
X-PUBLISHED-TTL:P3D
REFRESH-INTERVAL:P3D
CALSCALE:GREGORIAN
BEGIN:VEVENT
DTSTART:20210919T160000Z
DTEND:20210919T160000Z
X-MICROSOFT-CDO-ALLDAYEVENT:FALSE
SUMMARY:Fairfield County Community Health Center\, Tournament of Healthcare Champions Golf Outing
DESCRIPTION:FCHC's 3rd Annual Tournament of Healthcare Champions Golf Outing is Saturday\, September 18th at Lancaster Country Club! Shotgun start at 12pm!\n\n \n\nRegistration includes: 18 Holes & Cart\, Boxed Lunch\, 2 Drink Tickets\, and entrance to all of our hole contests!\n\n\n\nUse this link to register: http://www.fairfieldchc.org/events\n\n \n\nIf you would like to reserve your spot\, but pay day of event\, please e-mail LLumbard@fairfieldchc.org or call (740) 277-6043 ext. 1017.
X-ALT-DESC;FMTTYPE=text/html:<p style="margin: 0px\; padding: 0px\; border: 0px\; outline: 0px\; vertical-align: baseline\; background-image: initial\; background-position: initial\; background-size: initial\; background-repeat: initial\; background-attachment: initial\; background-origin: initial\; background-clip: initial\; min-height: 1.5em\; color: rgb(42\, 42\, 42)\; font-family: avenir-lt-w01_35-light1475496\, sans-serif\; font-size: 16px\;">FCHC&#39\;s 3rd Annual Tournament of Healthcare Champions Golf Outing is Saturday\, September 18th at Lancaster Country Club! Shotgun start at 12pm!</p>\n\n<p style="margin: 0px\; padding: 0px\; border: 0px\; outline: 0px\; vertical-align: baseline\; background-image: initial\; background-position: initial\; background-size: initial\; background-repeat: initial\; background-attachment: initial\; background-origin: initial\; background-clip: initial\; min-height: 1.5em\; color: rgb(42\, 42\, 42)\; font-family: avenir-lt-w01_35-light1475496\, sans-serif\; font-size: 16px\;">&nbsp\;</p>\n\n<p style="margin: 0px\; padding: 0px\; border: 0px\; outline: 0px\; vertical-align: baseline\; background-image: initial\; background-position: initial\; background-size: initial\; background-repeat: initial\; background-attachment: initial\; background-origin: initial\; background-clip: initial\; min-height: 1.5em\; color: rgb(42\, 42\, 42)\; font-family: avenir-lt-w01_35-light1475496\, sans-serif\; font-size: 16px\;">Registration includes: 18 Holes &amp\; Cart\, Boxed Lunch\, 2 Drink Tickets\, and entrance to all of our hole contests!<br />\n<br />\nUse this link to register:&nbsp\;<a href="http://www.fairfieldchc.org/events">http://www.fairfieldchc.org/events</a></p>\n\n<p style="margin: 0px\; padding: 0px\; border: 0px\; outline: 0px\; vertical-align: baseline\; background-image: initial\; background-position: initial\; background-size: initial\; background-repeat: initial\; background-attachment: initial\; background-origin: initial\; background-clip: initial\; min-height: 1.5em\; color: rgb(42\, 42\, 42)\; font-family: avenir-lt-w01_35-light1475496\, sans-serif\; font-size: 16px\;">&nbsp\;</p>\n\n<p style="margin: 0px\; padding: 0px\; border: 0px\; outline: 0px\; vertical-align: baseline\; background-image: initial\; background-position: initial\; background-size: initial\; background-repeat: initial\; background-attachment: initial\; background-origin: initial\; background-clip: initial\; min-height: 1.5em\; color: rgb(42\, 42\, 42)\; font-family: avenir-lt-w01_35-light1475496\, sans-serif\; font-size: 16px\;">If you would like to reserve your spot\, but pay day of event\, please e-mail LLumbard@fairfieldchc.org or call (740) 277-6043 ext. 1017.</p>\n
LOCATION:Lancaster Country Club 3100 Country Club Rd\, SW\, Lancaster\, OH 43130
UID:e.3121.633
SEQUENCE:3
DTSTAMP:20260420T073955Z
URL:https://business.lancoc.org/events/details/fairfield-county-community-health-center-tournament-of-healthcare-champions-golf-outing-633
END:VEVENT

END:VCALENDAR
