BEGIN:VCALENDAR
VERSION:2.0
PRODID:-//ChamberMaster//Event Calendar 2.0//EN
METHOD:PUBLISH
X-PUBLISHED-TTL:P3D
REFRESH-INTERVAL:P3D
CALSCALE:GREGORIAN
BEGIN:VEVENT
DTSTART:20210817T143000Z
DTEND:20210817T143000Z
X-MICROSOFT-CDO-ALLDAYEVENT:FALSE
SUMMARY:Fairfield County Commissioners\, Dedication of the Amstutz Patriotic Mural
DESCRIPTION:Please join the Fairfield County Commissioners for the dedication of the Amstutz Patriotic Mural.\n\n\n\nThe mural will be dedicated to those who have paid the ultimate sacrifice in fighting for our freedom.\n\n\n\nSpecial thank you to Remo Remo Design and all of the volunteers who worked on the mural.
X-ALT-DESC;FMTTYPE=text/html:Please join the Fairfield County Commissioners for the dedication of the Amstutz Patriotic Mural.<br />\n<br />\nThe mural will be dedicated to those who have paid the ultimate sacrifice in fighting for our freedom.<br />\n<br />\n<em>Special thank you to Remo Remo Design and all of the volunteers who worked on the mural.&nbsp\;</em>
LOCATION:227 East Main Street\, Lancaster
UID:e.3121.637
SEQUENCE:3
DTSTAMP:20260422T092112Z
URL:https://business.lancoc.org/events/details/fairfield-county-commissioners-dedication-of-the-amstutz-patriotic-mural-637
END:VEVENT

END:VCALENDAR
