BEGIN:VCALENDAR
VERSION:2.0
PRODID:-//ChamberMaster//Event Calendar 2.0//EN
METHOD:PUBLISH
X-PUBLISHED-TTL:P3D
REFRESH-INTERVAL:P3D
CALSCALE:GREGORIAN
BEGIN:VEVENT
DTSTART:20210708T200000Z
DTEND:20210708T230000Z
X-MICROSOFT-CDO-ALLDAYEVENT:FALSE
SUMMARY:Fairfield County ADAMH Board's Be a Smart Cookie Drive-through Narcan Giveaway and Training
DESCRIPTION:It's National Sugar Cookie Day\, so drive through and get a free cookie and lifesaving Narcan kits with training from the comfort of your vehicle. Counselors will be available.\n\n\n\nEach participant will receive a Narcan/naloxone kit\, drug disposal\n\n(Deterra) bag\, community resources\, and a cookie.
X-ALT-DESC;FMTTYPE=text/html:It&rsquo\;s National Sugar Cookie Day\, so drive through and get a free cookie and lifesaving Narcan kits with training from the comfort of your vehicle. Counselors will be available.<br />\n<br />\nEach participant will receive a Narcan/naloxone kit\, drug disposal<br />\n(Deterra) bag\, community resources\, and a cookie.
LOCATION:Parking Lot of Kroger\, 1621 N. Memorial Drive. Lancaster\, OH
UID:e.3121.617
SEQUENCE:3
DTSTAMP:20260422T125829Z
URL:https://business.lancoc.org/events/details/fairfield-county-adamh-board-s-be-a-smart-cookie-drive-through-narcan-giveaway-and-training-617
END:VEVENT

END:VCALENDAR
