BEGIN:VCALENDAR
VERSION:2.0
PRODID:-//ChamberMaster//Event Calendar 2.0//EN
METHOD:PUBLISH
X-PUBLISHED-TTL:P3D
REFRESH-INTERVAL:P3D
CALSCALE:GREGORIAN
BEGIN:VEVENT
DTSTART:20210813T123000Z
DTEND:20210813T203000Z
X-MICROSOFT-CDO-ALLDAYEVENT:FALSE
SUMMARY:Fairfield County ADAMH Board Presents Mental Health First Aid Training
DESCRIPTION:Mental Health First Aid\n\nWith an estimated 1 in 5 Americans experiencing a mental health disorder in any given year\, it's extremely likely that you will encounter someone in your family\, workplace\, school\, church\, or community who lives with a diagnosed mental disorder.\n\n\n\nFree Mental Health First Aid (MHFA) trainings are designed to teach members of the public how to respond in a mental health emergency and offer support to someone who appears to be in emotional distress. It's a little like learning CPR for mental health and addiction disorders. There's no need to be a clinician or a specialist    everyone can benefit from knowing the basics of how to respond in a crisis. There are two curricula that are offered at various times throughout the year. Check back often to see when the course in which you are interested will be offered.\n\nFollow this link to register: https://www.eventbrite.com/e/mental-health-first-aid-free-training-tickets-160859664587
X-ALT-DESC;FMTTYPE=text/html:<strong>Mental Health First Aid</strong><br />\nWith an estimated 1 in 5 Americans experiencing a mental health disorder in any given year\, it&rsquo\;s extremely likely that you will encounter someone in your family\, workplace\, school\, church\, or community who lives with a diagnosed mental disorder.<br />\n<br />\nFree Mental Health First Aid (MHFA) trainings are designed to teach members of the public how to respond in a mental health emergency and offer support to someone who appears to be in emotional distress. It&rsquo\;s a little like learning CPR for mental health and addiction disorders. There&rsquo\;s no need to be a clinician or a specialist &mdash\;&#8203\; everyone can benefit from knowing the basics of how to respond in a crisis. There are two curricula that are offered at various times throughout the year. Check back often to see when the course in which you are interested will be offered.<br />\nFollow this link to register: <a href="https://www.eventbrite.com/e/mental-health-first-aid-free-training-tickets-160859664587">https://www.eventbrite.com/e/mental-health-first-aid-free-training-tickets-160859664587</a>
LOCATION:111 S. Broad Street Lancaster\, OH 43130
UID:e.3121.627
SEQUENCE:3
DTSTAMP:20260422T091650Z
URL:https://business.lancoc.org/events/details/fairfield-county-adamh-board-presents-mental-health-first-aid-training-627
END:VEVENT

END:VCALENDAR
