BEGIN:VCALENDAR
VERSION:2.0
PRODID:-//ChamberMaster//Event Calendar 2.0//EN
METHOD:PUBLISH
X-PUBLISHED-TTL:P3D
REFRESH-INTERVAL:P3D
CALSCALE:GREGORIAN
BEGIN:VEVENT
DTSTART:20210424T160000Z
DTEND:20210424T200000Z
X-MICROSOFT-CDO-ALLDAYEVENT:FALSE
SUMMARY:Fairfield Community Action Agency Recycling & Litter Prevention's Seeds of Change Earth Day Event
DESCRIPTION:Join The Fairfield Community Action Agency's Recycling and Litter Prevention for an afternoon of education and fun celebrating Earth Day 2021 with their community partners. This rain or shine event will feature booths full of activities and information free for people of all ages.
X-ALT-DESC;FMTTYPE=text/html:<span style="font-size:14px\;"><span style="font-family:arial\;">Join The Fairfield Community Action Agency&#39\;s&nbsp\;<span style="background-color: rgb(255\, 255\, 255)\;">Recycling and Litter Prevention for an afternoon of education and fun celebrating Earth Day 2021 with their community partners. This rain or shine event will feature booths full of activities and information free for people of all ages.</span></span></span>
LOCATION:Rising Park\, Lancaster
UID:e.3121.568
SEQUENCE:3
DTSTAMP:20260422T163909Z
URL:https://business.lancoc.org/events/details/fairfield-community-action-agency-recycling-litter-prevention-s-seeds-of-change-earth-day-event-568
END:VEVENT

END:VCALENDAR
