BEGIN:VCALENDAR
VERSION:2.0
PRODID:-//ChamberMaster//Event Calendar 2.0//EN
METHOD:PUBLISH
X-PUBLISHED-TTL:P3D
REFRESH-INTERVAL:P3D
CALSCALE:GREGORIAN
BEGIN:VEVENT
DTSTART:20200809T180000Z
DTEND:20200809T190000Z
X-MICROSOFT-CDO-ALLDAYEVENT:FALSE
SUMMARY:Etching in the Age of Instagram
DESCRIPTION:Etching in the Age of Instagram Sunday\, August 9\, 2:00 pm $8/$5 members prepaid registration\, $10 at the door Printmaker and Ohio University Art Professor Art Werger will present an Artist Talk on the unexpected resurgence of traditional methods of printmaking\, including lithography\, mezzotint\, etching\, and letterpress\, in the present digital age.
X-ALT-DESC;FMTTYPE=text/html:Etching in the Age of Instagram Sunday\, August 9\, 2:00 pm $8/$5 members prepaid registration\, $10 at the door Printmaker and Ohio University Art Professor Art Werger will present an Artist Talk on the unexpected resurgence of traditional methods of printmaking\, including lithography\, mezzotint\, etching\, and letterpress\, in the present digital age.
LOCATION:First United Methodist Church 163 E Wheeling St\, Lancaster\, OH 43130
UID:e.3121.458
SEQUENCE:3
DTSTAMP:20260423T072808Z
URL:https://business.lancoc.org/events/details/etching-in-the-age-of-instagram-458
END:VEVENT

END:VCALENDAR
