BEGIN:VCALENDAR
VERSION:2.0
PRODID:-//ChamberMaster//Event Calendar 2.0//EN
METHOD:PUBLISH
X-PUBLISHED-TTL:P3D
REFRESH-INTERVAL:P3D
CALSCALE:GREGORIAN
BEGIN:VEVENT
DTSTART:20201216T140000Z
DTEND:20201216T153000Z
X-MICROSOFT-CDO-ALLDAYEVENT:FALSE
SUMMARY:Economic Outlook 2021: Recovery\, Adaption & Innovation\, Dec 16th
DESCRIPTION:5th Annual Economic Outlook\n\nJoin us on Wednesday\, December 2nd\, 9th\, and 16th\, for the Annual Economic Outlook event in partnership with the Fairfield 33 Alliance\, the Lancaster-Fairfield County Chamber\, the Pickerington Area Chamber\, and the Canal Winchester Chamber.  \n\nThis year's event will feature a three-part virtual speaker series with topics including:\n\nDecember 2nd\n\nEconomic Update from Dr. Ned Hill\, The Ohio State University\n\n\n\nDecember 9th\n\nAttract\, Up-Skill\, & Retain Your Workforce\n\n\n\nDecember 16th\n\nRecovery\, Adaptation\, & Innovation\n\n\n\nRSVP for one or all and plan to join us as we gear up for 2021!\n\n\n\nPresenting Sponsor: Seibert Keck Insurance Agency\n\nPillar Sponsor: Z Promotions\n\nProgress Sponsor: Ruff & Associates CPA's\, Inc\, ABS\, CPA's
X-ALT-DESC;FMTTYPE=text/html:<strong><span style="font-size:20px\;">5th Annual Economic Outlook</span></strong><br />\n<span style="font-size:12px\;"><span style="color: rgb(51\, 51\, 51)\; font-family: Verdana\, Geneva\, sans-serif\; background-color: rgb(255\, 255\, 255)\;">Join us on&nbsp\;</span><span style="box-sizing: border-box\; font-weight: bolder\; color: rgb(51\, 51\, 51)\; font-family: Verdana\, Geneva\, sans-serif\; background-color: rgb(255\, 255\, 255)\;">Wednesday\, December 2nd\, 9th\, and 16th\,</span><span style="color: rgb(51\, 51\, 51)\; font-family: Verdana\, Geneva\, sans-serif\; background-color: rgb(255\, 255\, 255)\;">&nbsp\;for the&nbsp\;</span><span style="box-sizing: border-box\; font-weight: bolder\; color: rgb(51\, 51\, 51)\; font-family: Verdana\, Geneva\, sans-serif\; background-color: rgb(255\, 255\, 255)\;">Annual Economic Outlook&nbsp\;</span><span style="color: rgb(51\, 51\, 51)\; font-family: Verdana\, Geneva\, sans-serif\; background-color: rgb(255\, 255\, 255)\;">event in partnership with the&nbsp\;</span><span style="box-sizing: border-box\; font-weight: bolder\; outline: 0px\; color: rgb(51\, 51\, 51)\; font-family: Verdana\, Geneva\, sans-serif\; background-color: rgb(255\, 255\, 255)\;">Fairfield 33 Alliance\, the Lancaster-Fairfield County Chamber\, the Pickerington Area Chamber\, and the Canal Winchester Chamber.&nbsp\;&nbsp\;</span><br style="box-sizing: border-box\; color: rgb(51\, 51\, 51)\; font-family: Verdana\, Geneva\, sans-serif\; font-size: 16px\; background-color: rgb(255\, 255\, 255)\;" />\n<span style="color: rgb(51\, 51\, 51)\; font-family: Verdana\, Geneva\, sans-serif\; background-color: rgb(255\, 255\, 255)\;">This year&#39\;s event will feature a three-part virtual speaker series with topics including:</span><br style="box-sizing: border-box\; color: rgb(51\, 51\, 51)\; font-family: Verdana\, Geneva\, sans-serif\; font-size: 16px\; background-color: rgb(255\, 255\, 255)\;" />\n<span style="box-sizing: border-box\; font-weight: bolder\; color: rgb(51\, 51\, 51)\; font-family: Verdana\, Geneva\, sans-serif\; background-color: rgb(255\, 255\, 255)\;">December 2nd<br style="box-sizing: border-box\;" />\nEconomic Update from Dr. Ned Hill\, The Ohio State University<br style="box-sizing: border-box\;" />\n<br style="box-sizing: border-box\;" />\nDecember 9th<br style="box-sizing: border-box\;" />\nAttract\, Up-Skill\, &amp\; Retain Your Workforce<br style="box-sizing: border-box\;" />\n<br style="box-sizing: border-box\;" />\nDecember 16th<br style="box-sizing: border-box\;" />\nRecovery\, Adaptation\, &amp\; Innovation</span><br style="box-sizing: border-box\; color: rgb(51\, 51\, 51)\; font-family: Verdana\, Geneva\, sans-serif\; font-size: 16px\; background-color: rgb(255\, 255\, 255)\;" />\n<br />\n<span style="color: rgb(51\, 51\, 51)\; font-family: Verdana\, Geneva\, sans-serif\; background-color: rgb(255\, 255\, 255)\;">RSVP for one or all and plan to join us as we gear up for 2021!</span></span><br />\n<br />\nPresenting Sponsor: Seibert Keck Insurance Agency<br />\nPillar Sponsor: Z Promotions<br />\nProgress Sponsor: Ruff &amp\; Associates CPA&#39\;s\, Inc\, ABS\, CPA&#39\;s<br />\n<br />\n&nbsp\;
LOCATION:Virtual Speaker Series
UID:e.3121.484
SEQUENCE:3
DTSTAMP:20260423T001327Z
URL:https://business.lancoc.org/events/details/economic-outlook-2021-recovery-adaption-innovation-dec-16th-484
END:VEVENT

END:VCALENDAR
