BEGIN:VCALENDAR
VERSION:2.0
PRODID:-//ChamberMaster//Event Calendar 2.0//EN
METHOD:PUBLISH
X-PUBLISHED-TTL:P3D
REFRESH-INTERVAL:P3D
CALSCALE:GREGORIAN
BEGIN:VEVENT
DTSTART:20211027T213000Z
DTEND:20211027T233000Z
X-MICROSOFT-CDO-ALLDAYEVENT:FALSE
SUMMARY:Eastland Fairfield Career & Technical School\, Tech Or Treat
DESCRIPTION:Tech or Treat\n\nA spooktacular\, family-friendly evening of\n\nactivities\, games\, and trick-or-treating!\n\n \n\n\nChildren through 8th grade\, staff members and families\n\nare invited to have an un-BOO-lievably good time.\n\nCostumes encouraged\, particularly those associated with careers!\n\n.\n\nFace coverings are required for all attendees\n\nin light of ongoing COVID safety precautions.\n\n \n\nClick HERE to learn more.
X-ALT-DESC;FMTTYPE=text/html:<div style="text-align: center\;"><strong><span style="font-size:18px\;">Tech or Treat</span></strong></div>\n\n<div style="text-align: center\;"><span style="font-size:16px\;">A spooktacular\, family-friendly evening of</span></div>\n\n<div style="text-align: center\;"><span style="font-size:16px\;">activities\, games\, and trick-or-treating!</span></div>\n\n<div style="text-align: center\;">&nbsp\;</div>\n\n<div>\n<div style="text-align: center\;"><span style="font-size:16px\;">Children through 8th grade\, staff members and families</span></div>\n\n<div style="text-align: center\;"><span style="font-size:16px\;">are invited to have an un-BOO-lievably good time.</span></div>\n\n<div style="text-align: center\;"><span style="font-size:16px\;">Costumes encouraged\, particularly those associated with careers!</span></div>\n\n<div style="text-align: center\;"><span style="font-size:16px\;">.</span></div>\n\n<div style="text-align: center\;"><span style="font-size:16px\;">Face coverings are required for all attendees</span></div>\n\n<div style="text-align: center\;"><span style="font-size:16px\;">in light of ongoing COVID safety precautions.</span></div>\n\n<div style="text-align: center\;">&nbsp\;</div>\n\n<div style="text-align: center\;"><span style="font-size:16px\;">Click <a href="http://www.eastlandfairfield.com/techortreat">HERE</a> to learn more.&nbsp\;</span></div>\n</div>\n
LOCATION:Eastland Career Center 4300 Amalgamated Place Groveport Ohio 43125 Fairfield Career Center 3985 Coonpath Road NW Carroll\, Ohio 43112
UID:e.3121.719
SEQUENCE:3
DTSTAMP:20260420T074642Z
URL:https://business.lancoc.org/events/details/eastland-fairfield-career-technical-school-tech-or-treat-719
END:VEVENT

END:VCALENDAR
