BEGIN:VCALENDAR
VERSION:2.0
PRODID:-//ChamberMaster//Event Calendar 2.0//EN
METHOD:PUBLISH
X-PUBLISHED-TTL:P3D
REFRESH-INTERVAL:P3D
CALSCALE:GREGORIAN
BEGIN:VEVENT
DTSTART:20200419T180000Z
DTEND:20200419T190000Z
X-MICROSOFT-CDO-ALLDAYEVENT:FALSE
SUMMARY:Discover Barbara Shermund
DESCRIPTION:Meet Amanda Gromley\, Barbara Shermund's niece\, as she shares her journey of discovery on her Aunt\, who was "lost" to her family history.
X-ALT-DESC;FMTTYPE=text/html:Meet Amanda Gromley\, Barbara Shermund&#39\;s niece\, as she shares her journey of discovery on her Aunt\, who was &quot\;lost&quot\; to her family history.
LOCATION:Decorative Arts Center of Ohio 145 E Main Street Lancaster\, Ohio 43130
UID:e.3121.397
SEQUENCE:3
DTSTAMP:20260423T191454Z
URL:https://business.lancoc.org/events/details/discover-barbara-shermund-397
END:VEVENT

END:VCALENDAR
