BEGIN:VCALENDAR
VERSION:2.0
PRODID:-//ChamberMaster//Event Calendar 2.0//EN
METHOD:PUBLISH
X-PUBLISHED-TTL:P3D
REFRESH-INTERVAL:P3D
CALSCALE:GREGORIAN
BEGIN:VEVENT
DTSTART:20220303T210000Z
DTEND:20220303T230000Z
X-MICROSOFT-CDO-ALLDAYEVENT:FALSE
SUMMARY:Disbennett Wealth Management Ribbon Cutting
DESCRIPTION:Disbennett Wealth Management has a new building at a new location. \n\nCome celebrate with us!\n\nRibbon Cutting at 4:30 pm\n\nOpen House 4:00 pm - 6:00 pm
X-ALT-DESC;FMTTYPE=text/html:<span style="font-size:22px\;"><span style="color:#000000\;">Disbennett Wealth Management has a new building at a new location.&nbsp\;<br />\nCome celebrate with us!<br />\nRibbon Cutting at 4:30 pm<br />\nOpen House 4:00 pm - 6:00 pm</span></span>
LOCATION:
UID:e.3121.753
SEQUENCE:3
DTSTAMP:20260419T222049Z
URL:https://business.lancoc.org/events/details/disbennett-wealth-management-ribbon-cutting-753
END:VEVENT

END:VCALENDAR
