BEGIN:VCALENDAR
VERSION:2.0
PRODID:-//ChamberMaster//Event Calendar 2.0//EN
METHOD:PUBLISH
X-PUBLISHED-TTL:P3D
REFRESH-INTERVAL:P3D
CALSCALE:GREGORIAN
BEGIN:VEVENT
DTSTART:20200822T170000Z
DTEND:20200822T200000Z
X-MICROSOFT-CDO-ALLDAYEVENT:FALSE
SUMMARY:Diptychs & Triptychs Workshop
DESCRIPTION:Diptychs & Triptychs Workshop Saturday\, August 22 1:00-4:00 pm Ages 9-18 $35/$30 member Lisa Schorr\, Dallas Rienschield\, instructors Students will begin with a tour of the museum exhibition\, which features diptychs and triptychs\, then return to the Wendel Center for Art Education to create their own mixed media diptychs (two-paneled pieces) and triptychs (three-paneled pieces).
X-ALT-DESC;FMTTYPE=text/html:Diptychs &amp\; Triptychs Workshop Saturday\, August 22 1:00-4:00 pm Ages 9-18 $35/$30 member Lisa Schorr\, Dallas Rienschield\, instructors Students will begin with a tour of the museum exhibition\, which features diptychs and triptychs\, then return to the Wendel Center for Art Education to create their own mixed media diptychs (two-paneled pieces) and triptychs (three-paneled pieces).
LOCATION:Wendel Center for Art Education at the Decorative Arts Center of Ohio 145 E Main St Lancaster\, Ohio 43130
UID:e.3121.464
SEQUENCE:3
DTSTAMP:20260423T091451Z
URL:https://business.lancoc.org/events/details/diptychs-triptychs-workshop-464
END:VEVENT

END:VCALENDAR
