BEGIN:VCALENDAR
VERSION:2.0
PRODID:-//ChamberMaster//Event Calendar 2.0//EN
METHOD:PUBLISH
X-PUBLISHED-TTL:P3D
REFRESH-INTERVAL:P3D
CALSCALE:GREGORIAN
BEGIN:VEVENT
DTSTART:20200312T220000Z
DTEND:20200313T000000Z
X-MICROSOFT-CDO-ALLDAYEVENT:FALSE
SUMMARY:Destination Showcase Caribbean
DESCRIPTION:Learn about this amazing tropical destination and take advantage of exclusive event savings. RSVP now with your AAA travel agent at 740-653-0912 or at AAA.com/Events.
X-ALT-DESC;FMTTYPE=text/html:Learn about this amazing tropical destination and take advantage of exclusive event savings. RSVP now with your AAA travel agent at 740-653-0912 or at AAA.com/Events.
LOCATION:714 N Memorial Dr. Lancaster\, OH 43130
UID:e.3121.420
SEQUENCE:3
DTSTAMP:20260423T185533Z
URL:https://business.lancoc.org/events/details/destination-showcase-caribbean-420
END:VEVENT

END:VCALENDAR
