BEGIN:VCALENDAR
VERSION:2.0
PRODID:-//ChamberMaster//Event Calendar 2.0//EN
METHOD:PUBLISH
X-PUBLISHED-TTL:P3D
REFRESH-INTERVAL:P3D
CALSCALE:GREGORIAN
BEGIN:VEVENT
DTSTART:20211030T170000Z
DTEND:20211030T190000Z
X-MICROSOFT-CDO-ALLDAYEVENT:FALSE
SUMMARY:Destination Downtown Lancaster\, Trick or Treat
DESCRIPTION:Destination Downtown Lancaster Trick or Treat Day!\n\nOn Saturday\, Oct 30th from 1 - 3 pm\n\nIn Downtown Lancaster\n\n\n\nSee the image below for a list of participating businesses.
X-ALT-DESC;FMTTYPE=text/html:<div style="text-align: center\;"><span style="font-size:16px\;">Destination Downtown Lancaster Trick or Treat Day!<br />\nOn Saturday\, Oct 30th from 1 - 3 pm<br />\nIn Downtown Lancaster<br />\n<br />\nSee the image below for a list of participating businesses.</span></div>\n
LOCATION:Downtown Lancaster
UID:e.3121.728
SEQUENCE:3
DTSTAMP:20260420T074321Z
URL:https://business.lancoc.org/events/details/destination-downtown-lancaster-trick-or-treat-728
END:VEVENT

END:VCALENDAR
