BEGIN:VCALENDAR
VERSION:2.0
PRODID:-//ChamberMaster//Event Calendar 2.0//EN
METHOD:PUBLISH
X-PUBLISHED-TTL:P3D
REFRESH-INTERVAL:P3D
CALSCALE:GREGORIAN
BEGIN:VEVENT
DTSTART;VALUE=DATE:20210602
DTEND;VALUE=DATE:20210603
TRANSP:TRANSPARENT
X-MICROSOFT-CDO-ALLDAYEVENT:TRUE
SUMMARY:Destination Downtown Lancaster's June Saturday Cinema
DESCRIPTION:Save the Date for Destination Downtown Lancaster's Saturday Cinema\n\nJoin us for a free outdoor movie (Finding Nemo) on Saturday\, June 12th! Join us at the bandstand and be sure to bring your blankets\, chairs\, and snacks. Family activities and music will begin at 7:30pm and the movie will start at dusk. Concessions are available!
X-ALT-DESC;FMTTYPE=text/html:<div style="margin: 0px\; padding: 0px\; border: 0px\; font-variant-numeric: inherit\; font-variant-east-asian: inherit\; font-stretch: inherit\; font-size: 15px\; line-height: inherit\; font-family: &quot\;Segoe UI&quot\;\, &quot\;Segoe UI Web (West European)&quot\;\, &quot\;Segoe UI&quot\;\, -apple-system\, BlinkMacSystemFont\, Roboto\, &quot\;Helvetica Neue&quot\;\, sans-serif\; vertical-align: baseline\; color: rgb(32\, 31\, 30)\; background-color: rgb(255\, 255\, 255)\;">\n<div style="margin: 0px\; padding: 0px\; border: 0px\; font: inherit\; vertical-align: baseline\; color: rgb(26\, 25\, 26)\; white-space: pre-wrap\;"><span style="margin: 0px\; padding: 0px\; border: 0px\; font-style: inherit\; font-variant: inherit\; font-weight: bold\; font-stretch: inherit\; font-size: inherit\; line-height: inherit\; font-family: inherit\; vertical-align: baseline\; color: inherit\;"><font face="Arial\,sans-serif" size="4">Save the Date for Destination Downtown Lancaster&#39\;s Saturday Cinema</font></span></div>\n\n<div style="margin: 0px\; padding: 0px\; border: 0px\; font: inherit\; vertical-align: baseline\; color: rgb(26\, 25\, 26)\; white-space: pre-wrap\;"><font face="Arial\,sans-serif" size="4">Join us for a free outdoor movie (Finding Nemo) on Saturday\, June 12th! Join us at the bandstand and be sure to bring your blankets\, chairs\, and snacks. Family activities and music will begin at 7:30pm and the movie will start at dusk. Concessions are available!</font></div>\n\n<div>&nbsp\;</div>\n</div>\n
LOCATION:Downtown Lancaster Bandstand
UID:e.3121.595
SEQUENCE:3
DTSTAMP:20260422T125644Z
URL:https://business.lancoc.org/events/details/destination-downtown-lancaster-s-june-saturday-cinema-595
END:VEVENT

END:VCALENDAR
