BEGIN:VCALENDAR
VERSION:2.0
PRODID:-//ChamberMaster//Event Calendar 2.0//EN
METHOD:PUBLISH
X-PUBLISHED-TTL:P3D
REFRESH-INTERVAL:P3D
CALSCALE:GREGORIAN
BEGIN:VEVENT
DTSTART:20211023T200000Z
DTEND:20211024T030000Z
X-MICROSOFT-CDO-ALLDAYEVENT:FALSE
SUMMARY:Destination Downtown Lancaster\, Fall Festival & Bark in the Park
DESCRIPTION:Join Destination Downtown Lancaster at their\n\nFall Festival & Bark in the Park Event!\n\n\nBring your family and friends  downtown on October 23rd for our Fall Festival. From hayrides to s'mores\, and live music to a beer garden\, this event has something for everyone. This is a pet friendly event\, so be sure to bring your four legged friends!
X-ALT-DESC;FMTTYPE=text/html:<div style="text-align: center\;"><span style="font-size:16px\;"><strong>Join Destination Downtown Lancaster at their<br />\nFall Festival &amp\; Bark in the Park Event!</strong></span></div>\n<br />\n<span style="font-size:14px\;">Bring your family and friends&nbsp\; downtown on October 23rd for our Fall Festival. From hayrides to s&#39\;mores\, and live music to a beer garden\, this event has something for everyone.&nbsp\;</span>This is a pet friendly event\, so be sure to bring your four legged friends!<br />\n
LOCATION:Downtown Lancaster
UID:e.3121.712
SEQUENCE:3
DTSTAMP:20260420T074704Z
URL:https://business.lancoc.org/events/details/destination-downtown-lancaster-fall-festival-bark-in-the-park-712
END:VEVENT

END:VCALENDAR
