BEGIN:VCALENDAR
VERSION:2.0
PRODID:-//ChamberMaster//Event Calendar 2.0//EN
METHOD:PUBLISH
X-PUBLISHED-TTL:P3D
REFRESH-INTERVAL:P3D
CALSCALE:GREGORIAN
BEGIN:VEVENT
DTSTART:20210424T120000Z
DTEND:20210424T160000Z
X-MICROSOFT-CDO-ALLDAYEVENT:FALSE
SUMMARY:Destination Downtown Lancaster Downtown Clean Up Day
DESCRIPTION:Destination Downtown Lancaster is excited to invite community members to volunteer for Downtown Clean Up Day this year and want you to know that the community's safety continues to be top priority.\n\nTo keep everyone safe and spread out\, please select a team name for your group so that we can appropriately assign projects to folks in pods who feel comfortable working together. Whether it's with members of your household\, your work buddies\, or your quarantine crew\, we will provide everyone who signs up with a project prior to Clean Up Day. You'll receive instructions\, location\, and details about your project\, and materials you may need. Projects will be able to be executed between 8am - 12pm. Grab your friends and help us make downtown sparkle! You'll get a super cool shirt and thanks to Brad Hutchinson and Mithoff Companies\, a free lunch too!\n\nUse the link below to register. https://www.destinationdowntownlancaster.com/events/cleanupday
X-ALT-DESC;FMTTYPE=text/html:<p id="yui_3_17_2_1_1617987318401_287" style="overflow-wrap: break-word\; font-family: &quot\;Libre Franklin&quot\;\; font-size: 18px\; letter-spacing: 1.08px\; background-color: rgb(255\, 255\, 255)\; white-space: pre-wrap\;">Destination Downtown Lancaster is excited to invite community members to volunteer for Downtown Clean Up Day this year and want you to know that the community&rsquo\;s safety continues to be top priority.</p>\n\n<p style="overflow-wrap: break-word\; font-family: &quot\;Libre Franklin&quot\;\; font-size: 18px\; letter-spacing: 1.08px\; background-color: rgb(255\, 255\, 255)\; white-space: pre-wrap\;">To keep everyone safe and spread out\, please select a team name for your group so that we can appropriately assign projects to folks in pods who feel comfortable working together. Whether it&rsquo\;s with members of your household\, your work buddies\, or your quarantine crew\, we will provide everyone who signs up with a project prior to Clean Up Day. You&rsquo\;ll receive instructions\, location\, and details about your project\, and materials you may need. Projects will be able to be executed between 8am - 12pm. Grab your friends and help us make downtown sparkle! You&rsquo\;ll get a super cool shirt and thanks to Brad Hutchinson and Mithoff Companies\, a free lunch too!<br />\nUse the link below to register. <a href="https://www.destinationdowntownlancaster.com/events/cleanupday">https://www.destinationdowntownlancaster.com/events/cleanupday</a></p>\n
LOCATION:Downtown Lancaster
UID:e.3121.565
SEQUENCE:3
DTSTAMP:20260422T164245Z
URL:https://business.lancoc.org/events/details/destination-downtown-lancaster-downtown-clean-up-day-565
END:VEVENT

END:VCALENDAR
